BEGIN:VCALENDAR
VERSION:2.0
PRODID:-//Community Living Owen Sound and District - ECPv6.15.18//NONSGML v1.0//EN
CALSCALE:GREGORIAN
METHOD:PUBLISH
X-ORIGINAL-URL:https://communitylivingowensound.com
X-WR-CALDESC:Events for Community Living Owen Sound and District
REFRESH-INTERVAL;VALUE=DURATION:PT1H
X-Robots-Tag:noindex
X-PUBLISHED-TTL:PT1H
BEGIN:VTIMEZONE
TZID:America/Toronto
BEGIN:DAYLIGHT
TZOFFSETFROM:-0500
TZOFFSETTO:-0400
TZNAME:EDT
DTSTART:20240310T070000
END:DAYLIGHT
BEGIN:STANDARD
TZOFFSETFROM:-0400
TZOFFSETTO:-0500
TZNAME:EST
DTSTART:20241103T060000
END:STANDARD
BEGIN:DAYLIGHT
TZOFFSETFROM:-0500
TZOFFSETTO:-0400
TZNAME:EDT
DTSTART:20250309T070000
END:DAYLIGHT
BEGIN:STANDARD
TZOFFSETFROM:-0400
TZOFFSETTO:-0500
TZNAME:EST
DTSTART:20251102T060000
END:STANDARD
BEGIN:DAYLIGHT
TZOFFSETFROM:-0500
TZOFFSETTO:-0400
TZNAME:EDT
DTSTART:20260308T070000
END:DAYLIGHT
BEGIN:STANDARD
TZOFFSETFROM:-0400
TZOFFSETTO:-0500
TZNAME:EST
DTSTART:20261101T060000
END:STANDARD
END:VTIMEZONE
BEGIN:VEVENT
DTSTART;TZID=America/Toronto:20250121T090000
DTEND;TZID=America/Toronto:20250121T120000
DTSTAMP:20260419T210624
CREATED:20250103T184743Z
LAST-MODIFIED:20250103T184743Z
UID:10000958-1737450000-1737460800@communitylivingowensound.com
SUMMARY:Personalized Mugs
DESCRIPTION:PERSONALIZED MUGS – Main Office Owen Sound – $49 per person Tuesday\, January 21\, 2025 – 9:00am – 12:00pm\nSpend the morning making a personalized mug!
URL:https://communitylivingowensound.com/event/personalized-mugs/
CATEGORIES:Passport
ATTACH;FMTTYPE=image/jpeg:https://communitylivingowensound.com/wp-content/uploads/2025/01/mugs.jpg
END:VEVENT
BEGIN:VEVENT
DTSTART;TZID=America/Toronto:20250121T090000
DTEND;TZID=America/Toronto:20250121T120000
DTSTAMP:20260419T210624
CREATED:20250107T185846Z
LAST-MODIFIED:20250107T185846Z
UID:10001095-1737450000-1737460800@communitylivingowensound.com
SUMMARY:Coffee and Book Buddies
DESCRIPTION:AM- 9-12pm -Coffee & Book Buddies: Weekly visits to a local coffee house (bring your own money); quiet reading and activities involving books! Free
URL:https://communitylivingowensound.com/event/coffee-and-book-buddies-2/2025-01-21/
CATEGORIES:Community Participation
ATTACH;FMTTYPE=image/jpeg:https://communitylivingowensound.com/wp-content/uploads/2024/10/coffee-and-books.jpg
END:VEVENT
BEGIN:VEVENT
DTSTART;TZID=America/Toronto:20250121T093000
DTEND;TZID=America/Toronto:20250121T113000
DTSTAMP:20260419T210624
CREATED:20250103T184619Z
LAST-MODIFIED:20250103T184619Z
UID:10000957-1737451800-1737459000@communitylivingowensound.com
SUMMARY:Cooking Class: Peanut Butter Cups
DESCRIPTION:PEANUT BUTTER CUPS – Main Office Owen Sound – $40 per person Tuesday\, January 21\, 2025 – 9:30am – 11:30am\nDo you enjoy Reece Cups? Well come learn to make homemade peanut butter cups! Please bring a container to take them home.
URL:https://communitylivingowensound.com/event/cooking-class-peanut-butter-cups/
CATEGORIES:Passport
ATTACH;FMTTYPE=image/jpeg:https://communitylivingowensound.com/wp-content/uploads/2025/01/peanut-butter-cups.jpg
END:VEVENT
BEGIN:VEVENT
DTSTART;TZID=America/Toronto:20250121T130000
DTEND;TZID=America/Toronto:20250121T150000
DTSTAMP:20260419T210624
CREATED:20250107T190043Z
LAST-MODIFIED:20250107T190043Z
UID:10001103-1737464400-1737471600@communitylivingowensound.com
SUMMARY:Attack Practice
DESCRIPTION:PM-1:30pm- Attack Practice: Tuesday afternoons join us at The Bayshore as we get in some walking steps and we cheer on the Attack as they get ready for their upcoming games. Once a month we will make a snack for the team to enjoy after their practice. No Practice on Tuesday Feb 18th due to the game the night before. $5
URL:https://communitylivingowensound.com/event/attack-practice-2/2025-01-21/
CATEGORIES:Community Participation
ATTACH;FMTTYPE=image/jpeg:https://communitylivingowensound.com/wp-content/uploads/2024/10/hockey-practice.jpg
END:VEVENT
BEGIN:VEVENT
DTSTART;TZID=America/Toronto:20250121T130000
DTEND;TZID=America/Toronto:20250121T150000
DTSTAMP:20260419T210624
CREATED:20250107T190214Z
LAST-MODIFIED:20250107T190214Z
UID:10001110-1737464400-1737471600@communitylivingowensound.com
SUMMARY:Mindfulness & Meditation
DESCRIPTION:PM-1pm – Meditation & Mindfulness- A variety of activities to help us learn about and put into practice a calm\, mindful approach to life. We will make a zen garden\, try yoga\, visit a local business\, and listen to local leaders in meditation. Cost: $50
URL:https://communitylivingowensound.com/event/mindfulness-meditation/2025-01-21/
CATEGORIES:Community Participation
ATTACH;FMTTYPE=image/jpeg:https://communitylivingowensound.com/wp-content/uploads/2025/01/meditation-and-mindfulness.jpg
END:VEVENT
BEGIN:VEVENT
DTSTART;TZID=America/Toronto:20250121T150000
DTEND;TZID=America/Toronto:20250121T180000
DTSTAMP:20260419T210624
CREATED:20240207T202046Z
LAST-MODIFIED:20240207T202046Z
UID:10000077-1737471600-1737482400@communitylivingowensound.com
SUMMARY:Billiards and Darts (Port Elgin)
DESCRIPTION:Tuesdays March 5\, 12\, 19\, 26 2024\nBilliards & Darts- PE LEGION\, PORT ELGIN- $ To Be Determined \nCome enjoy a few games of pool and darts at the local legion! You can attend each week\, or choose the weeks you’d like to come.\n3pm – 6pm\nRSVP to Lisa Penny @   lpenny@comlivos.on.ca
URL:https://communitylivingowensound.com/event/billiards-and-darts-port-elgin/2025-01-21/
CATEGORIES:Passport
ATTACH;FMTTYPE=image/jpeg:https://communitylivingowensound.com/wp-content/uploads/2024/02/billiards-and-darts.jpg
END:VEVENT
END:VCALENDAR