BEGIN:VCALENDAR
VERSION:2.0
PRODID:-//Community Living Owen Sound and District - ECPv6.15.18//NONSGML v1.0//EN
CALSCALE:GREGORIAN
METHOD:PUBLISH
X-ORIGINAL-URL:https://communitylivingowensound.com
X-WR-CALDESC:Events for Community Living Owen Sound and District
REFRESH-INTERVAL;VALUE=DURATION:PT1H
X-Robots-Tag:noindex
X-PUBLISHED-TTL:PT1H
BEGIN:VTIMEZONE
TZID:America/Toronto
BEGIN:DAYLIGHT
TZOFFSETFROM:-0500
TZOFFSETTO:-0400
TZNAME:EDT
DTSTART:20240310T070000
END:DAYLIGHT
BEGIN:STANDARD
TZOFFSETFROM:-0400
TZOFFSETTO:-0500
TZNAME:EST
DTSTART:20241103T060000
END:STANDARD
BEGIN:DAYLIGHT
TZOFFSETFROM:-0500
TZOFFSETTO:-0400
TZNAME:EDT
DTSTART:20250309T070000
END:DAYLIGHT
BEGIN:STANDARD
TZOFFSETFROM:-0400
TZOFFSETTO:-0500
TZNAME:EST
DTSTART:20251102T060000
END:STANDARD
BEGIN:DAYLIGHT
TZOFFSETFROM:-0500
TZOFFSETTO:-0400
TZNAME:EDT
DTSTART:20260308T070000
END:DAYLIGHT
BEGIN:STANDARD
TZOFFSETFROM:-0400
TZOFFSETTO:-0500
TZNAME:EST
DTSTART:20261101T060000
END:STANDARD
END:VTIMEZONE
BEGIN:VEVENT
DTSTART;TZID=America/Toronto:20250708T080000
DTEND;TZID=America/Toronto:20250708T123000
DTSTAMP:20260425T080526
CREATED:20250610T182113Z
LAST-MODIFIED:20250610T182113Z
UID:10002646-1751961600-1751977800@communitylivingowensound.com
SUMMARY:Keady Market
DESCRIPTION:Keady Market\nDate: Tuesday\, July 8 & July 15th\nTime: 8:30am-12pm Cost: $41\nRSVP by: June 24 Location: Keady\, ON \nMeeting Location: Main office \n  \nSpend the morning exploring the bustling Keady \nMarket\, filled with local produce\, handmade goods\, baked treats\, and unique finds. Enjoy the lively atmosphere\, meet local vendors\, and maybe take home something special!
URL:https://communitylivingowensound.com/event/keady-market-11/2025-07-08/
CATEGORIES:Passport
ATTACH;FMTTYPE=image/jpeg:https://communitylivingowensound.com/wp-content/uploads/2024/04/keady-market.jpg
END:VEVENT
BEGIN:VEVENT
DTSTART;TZID=America/Toronto:20250708T083000
DTEND;TZID=America/Toronto:20250708T183000
DTSTAMP:20260425T080526
CREATED:20250610T182435Z
LAST-MODIFIED:20250610T182435Z
UID:10002648-1751963400-1751999400@communitylivingowensound.com
SUMMARY:African Lion Safari
DESCRIPTION:African Lion Safari\nDate: Tuesday\, July 8 Time: 8:30am-6:30pm Cost: $215\nRSVP by: June 25 Location: Cambridge\, ON \nMeeting Location: Main Office OS \n  \nEmbark on a wild adventure at African Lion Safari \nwhere you’ll see majestic animals roam in wide-open habitats. From lions and giraffes to elephants and exotic birds\, it’s a day full of unforgettable encounters and amazing photo ops.
URL:https://communitylivingowensound.com/event/african-lion-safari-3/
CATEGORIES:Passport
ATTACH;FMTTYPE=image/jpeg:https://communitylivingowensound.com/wp-content/uploads/2024/05/African-Lion-Safari.jpg
END:VEVENT
BEGIN:VEVENT
DTSTART;TZID=America/Toronto:20250708T090000
DTEND;TZID=America/Toronto:20250708T120000
DTSTAMP:20260425T080526
CREATED:20250523T160020Z
LAST-MODIFIED:20250523T160020Z
UID:10002312-1751965200-1751976000@communitylivingowensound.com
SUMMARY:Keady Market (OS)
DESCRIPTION:AM 9-12pm Keady Market: Every Tuesday morning\, let’s explore the Vendors and Livestock Barns at Keady Market. Bring your own money each week. \n \n 
URL:https://communitylivingowensound.com/event/keady-market-os/2025-07-08/
CATEGORIES:Community Participation
ATTACH;FMTTYPE=image/jpeg:https://communitylivingowensound.com/wp-content/uploads/2024/04/keady-market.jpg
END:VEVENT
BEGIN:VEVENT
DTSTART;TZID=America/Toronto:20250708T090000
DTEND;TZID=America/Toronto:20250708T120000
DTSTAMP:20260425T080526
CREATED:20250523T160900Z
LAST-MODIFIED:20250523T160900Z
UID:10002324-1751965200-1751976000@communitylivingowensound.com
SUMMARY:Summer Crafts (OS)
DESCRIPTION:AM 9-12pm Summer Crafts: Are you feeling crafty?  Let’s get our creative juices flowing with a variety of fun summer crafts!\nCost $40
URL:https://communitylivingowensound.com/event/summer-crafts-os/2025-07-08/
CATEGORIES:Community Participation
ATTACH;FMTTYPE=image/jpeg:https://communitylivingowensound.com/wp-content/uploads/2024/10/crafts.jpg
END:VEVENT
BEGIN:VEVENT
DTSTART;TZID=America/Toronto:20250708T090000
DTEND;TZID=America/Toronto:20250708T120000
DTSTAMP:20260425T080526
CREATED:20250523T161216Z
LAST-MODIFIED:20250523T161216Z
UID:10002336-1751965200-1751976000@communitylivingowensound.com
SUMMARY:Farm to Table (OS)
DESCRIPTION:AM 9-12pm Farm to Table: Visit Local markets/stands/farms and get Farm Fresh ingredients to have at home. Cost: Bring your own cash money each week to purchase items you enjoy. Bring your own money each week.
URL:https://communitylivingowensound.com/event/farm-to-table-os/2025-07-08/
CATEGORIES:Community Participation
ATTACH;FMTTYPE=image/png:https://communitylivingowensound.com/wp-content/uploads/2025/05/farm-to-table.png
END:VEVENT
BEGIN:VEVENT
DTSTART;TZID=America/Toronto:20250708T100000
DTEND;TZID=America/Toronto:20250708T120000
DTSTAMP:20260425T080526
CREATED:20250526T151101Z
LAST-MODIFIED:20250526T151101Z
UID:10002538-1751968800-1751976000@communitylivingowensound.com
SUMMARY:BBQ Lunch (PE)
DESCRIPTION:AM – BBQ Lunch – Cost: $50.00 Let’s BBQ up some yummy meals! Let us know your favorite\, hotdog or hamburger?
URL:https://communitylivingowensound.com/event/bbq-lunch-pe/2025-07-08/
CATEGORIES:Community Participation
ATTACH;FMTTYPE=image/png:https://communitylivingowensound.com/wp-content/uploads/2025/05/bbq.png
END:VEVENT
BEGIN:VEVENT
DTSTART;TZID=America/Toronto:20250708T130000
DTEND;TZID=America/Toronto:20250708T150000
DTSTAMP:20260425T080526
CREATED:20250526T151225Z
LAST-MODIFIED:20250526T151225Z
UID:10002550-1751979600-1751986800@communitylivingowensound.com
SUMMARY:Craft Circle (PE)
DESCRIPTION:PM – Craft Circle – Bring your own craft (diamond dot\, rug hooking\, knitting\, etc) and enjoy crafting with friends. Cost: $0
URL:https://communitylivingowensound.com/event/craft-circle-pe-2/2025-07-08/
CATEGORIES:Community Participation
ATTACH;FMTTYPE=image/jpeg:https://communitylivingowensound.com/wp-content/uploads/2024/10/crafts.jpg
END:VEVENT
BEGIN:VEVENT
DTSTART;TZID=America/Toronto:20250708T130000
DTEND;TZID=America/Toronto:20250708T160000
DTSTAMP:20260425T080526
CREATED:20250523T161522Z
LAST-MODIFIED:20250523T174030Z
UID:10002348-1751979600-1751990400@communitylivingowensound.com
SUMMARY:Mini Golf/Driving Range (OS)
DESCRIPTION:PM 1-4pm Mini Golf/Driving Range: Each week we will alternate Mini Golf and the Driving Range and develop our Golf skills.  Cost $100
URL:https://communitylivingowensound.com/event/mini-golf-driving-range/2025-07-08/
CATEGORIES:Community Participation
ATTACH;FMTTYPE=image/png:https://communitylivingowensound.com/wp-content/uploads/2025/05/mini-golf.png
END:VEVENT
BEGIN:VEVENT
DTSTART;TZID=America/Toronto:20250708T130000
DTEND;TZID=America/Toronto:20250708T160000
DTSTAMP:20260425T080526
CREATED:20250523T172923Z
LAST-MODIFIED:20250523T173954Z
UID:10002360-1751979600-1751990400@communitylivingowensound.com
SUMMARY:Museums\, Markets & Gardens (OS)
DESCRIPTION:PM 1-4pm Museums\, Markets & Gardens: Tuesday afternoons\, we will explore Museums\, Gardens and Markets in Grey/Bruce! Cost $50 (used for entry fees into select locations)
URL:https://communitylivingowensound.com/event/museums-markets-gardens/2025-07-08/
CATEGORIES:Community Participation
ATTACH;FMTTYPE=image/png:https://communitylivingowensound.com/wp-content/uploads/2025/05/museum-market-garden.png
END:VEVENT
END:VCALENDAR