BEGIN:VCALENDAR
VERSION:2.0
PRODID:-//Community Living Owen Sound and District - ECPv6.15.18//NONSGML v1.0//EN
CALSCALE:GREGORIAN
METHOD:PUBLISH
X-WR-CALNAME:Community Living Owen Sound and District
X-ORIGINAL-URL:https://communitylivingowensound.com
X-WR-CALDESC:Events for Community Living Owen Sound and District
REFRESH-INTERVAL;VALUE=DURATION:PT1H
X-Robots-Tag:noindex
X-PUBLISHED-TTL:PT1H
BEGIN:VTIMEZONE
TZID:America/Toronto
BEGIN:DAYLIGHT
TZOFFSETFROM:-0500
TZOFFSETTO:-0400
TZNAME:EDT
DTSTART:20250309T070000
END:DAYLIGHT
BEGIN:STANDARD
TZOFFSETFROM:-0400
TZOFFSETTO:-0500
TZNAME:EST
DTSTART:20251102T060000
END:STANDARD
BEGIN:DAYLIGHT
TZOFFSETFROM:-0500
TZOFFSETTO:-0400
TZNAME:EDT
DTSTART:20260308T070000
END:DAYLIGHT
BEGIN:STANDARD
TZOFFSETFROM:-0400
TZOFFSETTO:-0500
TZNAME:EST
DTSTART:20261101T060000
END:STANDARD
BEGIN:DAYLIGHT
TZOFFSETFROM:-0500
TZOFFSETTO:-0400
TZNAME:EDT
DTSTART:20270314T070000
END:DAYLIGHT
BEGIN:STANDARD
TZOFFSETFROM:-0400
TZOFFSETTO:-0500
TZNAME:EST
DTSTART:20271107T060000
END:STANDARD
END:VTIMEZONE
BEGIN:VEVENT
DTSTART;TZID=America/Toronto:20260109T160000
DTEND;TZID=America/Toronto:20260110T010000
DTSTAMP:20260421T193354
CREATED:20251216T150414Z
LAST-MODIFIED:20251216T150414Z
UID:10003712-1767974400-1768006800@communitylivingowensound.com
SUMMARY:Blue Rodeo Concert (w/Passport)
DESCRIPTION:Blue Rodeo Concert (w/Passport) \n Date: Friday\, January 9 Time: 4pm – 1am Cost: $252 \nRSVP by: Dec 30 Location: Kitchener\, ON \n \n  \nJoin us for an unforgettable night with Canadian country-rock legends\, Blue Rodeo! Sing along to classic hits and soak in the incredible live energy of this iconic band as they take the stage for a winter concert to remember.!
URL:https://communitylivingowensound.com/event/blue-rodeo-concert-w-passport/
CATEGORIES:Passport
ATTACH;FMTTYPE=image/jpeg:https://communitylivingowensound.com/wp-content/uploads/2024/03/live-music.jpg
END:VEVENT
END:VCALENDAR