BEGIN:VCALENDAR
VERSION:2.0
PRODID:-//Community Living Owen Sound and District - ECPv6.15.18//NONSGML v1.0//EN
CALSCALE:GREGORIAN
METHOD:PUBLISH
X-ORIGINAL-URL:https://communitylivingowensound.com
X-WR-CALDESC:Events for Community Living Owen Sound and District
REFRESH-INTERVAL;VALUE=DURATION:PT1H
X-Robots-Tag:noindex
X-PUBLISHED-TTL:PT1H
BEGIN:VTIMEZONE
TZID:America/Toronto
BEGIN:DAYLIGHT
TZOFFSETFROM:-0500
TZOFFSETTO:-0400
TZNAME:EDT
DTSTART:20250309T070000
END:DAYLIGHT
BEGIN:STANDARD
TZOFFSETFROM:-0400
TZOFFSETTO:-0500
TZNAME:EST
DTSTART:20251102T060000
END:STANDARD
BEGIN:DAYLIGHT
TZOFFSETFROM:-0500
TZOFFSETTO:-0400
TZNAME:EDT
DTSTART:20260308T070000
END:DAYLIGHT
BEGIN:STANDARD
TZOFFSETFROM:-0400
TZOFFSETTO:-0500
TZNAME:EST
DTSTART:20261101T060000
END:STANDARD
BEGIN:DAYLIGHT
TZOFFSETFROM:-0500
TZOFFSETTO:-0400
TZNAME:EDT
DTSTART:20270314T070000
END:DAYLIGHT
BEGIN:STANDARD
TZOFFSETFROM:-0400
TZOFFSETTO:-0500
TZNAME:EST
DTSTART:20271107T060000
END:STANDARD
END:VTIMEZONE
BEGIN:VEVENT
DTSTART;TZID=America/Toronto:20260225T090000
DTEND;TZID=America/Toronto:20260225T120000
DTSTAMP:20260425T190537
CREATED:20251201T182337Z
LAST-MODIFIED:20251201T182337Z
UID:10003419-1772010000-1772020800@communitylivingowensound.com
SUMMARY:CP Winter Walking
DESCRIPTION:AM 9-12pm: Winter Walking: Bundle up and let’s get outside!  Cost: $0
URL:https://communitylivingowensound.com/event/cp-winter-walking/2026-02-25/
CATEGORIES:Community Participation
ATTACH;FMTTYPE=image/jpeg:https://communitylivingowensound.com/wp-content/uploads/2025/12/winter-wonderland.jpg
END:VEVENT
BEGIN:VEVENT
DTSTART;TZID=America/Toronto:20260225T090000
DTEND;TZID=America/Toronto:20260225T120000
DTSTAMP:20260425T190537
CREATED:20251201T182520Z
LAST-MODIFIED:20251201T182520Z
UID:10003432-1772010000-1772020800@communitylivingowensound.com
SUMMARY:CP That's a wrap!
DESCRIPTION:AM 9-12pm: That’s a Wrap: Explore a different recipe each week that uses tortillas/wraps. Cost: $60
URL:https://communitylivingowensound.com/event/cp-thats-a-wrap-2/2026-02-25/
CATEGORIES:Community Participation
ATTACH;FMTTYPE=image/jpeg:https://communitylivingowensound.com/wp-content/uploads/2025/12/wraps.jpg
END:VEVENT
BEGIN:VEVENT
DTSTART;TZID=America/Toronto:20260225T100000
DTEND;TZID=America/Toronto:20260225T120000
DTSTAMP:20260425T190537
CREATED:20251201T194406Z
LAST-MODIFIED:20251201T194406Z
UID:10003641-1772013600-1772020800@communitylivingowensound.com
SUMMARY:CP PE: Chair Yoga
DESCRIPTION:AM – Chair Yoga – Meet at Link by the Shore to stretch together\, moving our bodies in a meaningful way.  Cost: $0
URL:https://communitylivingowensound.com/event/cp-pe-chair-yoga/2026-02-25/
CATEGORIES:Community Participation
ATTACH;FMTTYPE=image/jpeg:https://communitylivingowensound.com/wp-content/uploads/2025/12/chair-yoga.jpg
END:VEVENT
BEGIN:VEVENT
DTSTART;TZID=America/Toronto:20260225T130000
DTEND;TZID=America/Toronto:20260225T160000
DTSTAMP:20260425T190538
CREATED:20251201T182803Z
LAST-MODIFIED:20251201T182803Z
UID:10003445-1772024400-1772035200@communitylivingowensound.com
SUMMARY:CP Brushes & Brews
DESCRIPTION:PM 1-4pm: Brushes & Brews: Painting and Coffee! Come to the link for a Coffee\, or Tea and enjoy some relaxing painting with water colour or acrylics! Focusing on winter inspired art and self-expression.  Cost: $70
URL:https://communitylivingowensound.com/event/cp-brushes-brews/2026-02-25/
CATEGORIES:Community Participation
ATTACH;FMTTYPE=image/jpeg:https://communitylivingowensound.com/wp-content/uploads/2025/01/painting.jpg
END:VEVENT
BEGIN:VEVENT
DTSTART;TZID=America/Toronto:20260225T130000
DTEND;TZID=America/Toronto:20260225T160000
DTSTAMP:20260425T190538
CREATED:20251201T183321Z
LAST-MODIFIED:20251201T183321Z
UID:10003468-1772024400-1772035200@communitylivingowensound.com
SUMMARY:CP Holiday Treats
DESCRIPTION:PM 1-4pm: Holiday Treats: Come each week as we try out different holiday treats focusing on Christmas & Valentine’s Day.  Cost: $60
URL:https://communitylivingowensound.com/event/cp-holiday-treats/2026-02-25/
CATEGORIES:Community Participation
ATTACH;FMTTYPE=image/jpeg:https://communitylivingowensound.com/wp-content/uploads/2025/11/christmas-cookie.jpg
END:VEVENT
BEGIN:VEVENT
DTSTART;TZID=America/Toronto:20260225T130000
DTEND;TZID=America/Toronto:20260225T160000
DTSTAMP:20260425T190538
CREATED:20251201T194731Z
LAST-MODIFIED:20251201T194731Z
UID:10003652-1772024400-1772035200@communitylivingowensound.com
SUMMARY:CP PE: Bowling & Billiards in Port Elgin
DESCRIPTION:PM – Bowling – Play a game with friends at Sunset Lanes in Port Elgin. Cost: $110 \nPM – Billiards – Come shoot a game of pool at Sunset Lanes. Cost: $22
URL:https://communitylivingowensound.com/event/cp-pe-bowling-billiards-in-port-elgin/2026-02-25/
CATEGORIES:Community Participation
ATTACH;FMTTYPE=image/jpeg:https://communitylivingowensound.com/wp-content/uploads/2024/05/billiards-and-bowling.jpg
END:VEVENT
BEGIN:VEVENT
DTSTART;TZID=America/Toronto:20260225T150000
DTEND;TZID=America/Toronto:20260225T220000
DTSTAMP:20260425T190538
CREATED:20260113T181532Z
LAST-MODIFIED:20260113T181532Z
UID:10003738-1772031600-1772056800@communitylivingowensound.com
SUMMARY:K1 Speedway with Passport
DESCRIPTION:K1 Speedway \nDate: Wednesday\, February 25 Time: 3-10pm\nCost: $189 \nRSVP by: Feb 20 Location: Cambridge\, ON \n \nGet your adrenaline pumping with high-speed thrills at K1 Speedway in Cambridge! Race your friends on a professionally designed track in electric go-karts that are fast\, fun\, and totally unforgettable!
URL:https://communitylivingowensound.com/event/k1-speedway-with-passport/
CATEGORIES:Passport
ATTACH;FMTTYPE=image/jpeg:https://communitylivingowensound.com/wp-content/uploads/2024/06/sauble-speedway.jpg
END:VEVENT
BEGIN:VEVENT
DTSTART;TZID=America/Toronto:20260225T153000
DTEND;TZID=America/Toronto:20260225T173000
DTSTAMP:20260425T190538
CREATED:20251201T183530Z
LAST-MODIFIED:20251201T183530Z
UID:10003481-1772033400-1772040600@communitylivingowensound.com
SUMMARY:CP Love U 2 Pizzas
DESCRIPTION:  \nPM 3:30-5:30: Love U 2 Pizzas: Join us every Wednesday night for a pizza party! Bring your flavour combo ideas and we will bring your pizza dreams to life. Cost: $75
URL:https://communitylivingowensound.com/event/cp-love-u-2-pizzas/2026-02-25/
CATEGORIES:Community Participation
ATTACH;FMTTYPE=image/jpeg:https://communitylivingowensound.com/wp-content/uploads/2025/01/valentine-pizza-party.jpg
END:VEVENT
END:VCALENDAR