BEGIN:VCALENDAR
VERSION:2.0
PRODID:-//Community Living Owen Sound and District - ECPv6.15.18//NONSGML v1.0//EN
CALSCALE:GREGORIAN
METHOD:PUBLISH
X-ORIGINAL-URL:https://communitylivingowensound.com
X-WR-CALDESC:Events for Community Living Owen Sound and District
REFRESH-INTERVAL;VALUE=DURATION:PT1H
X-Robots-Tag:noindex
X-PUBLISHED-TTL:PT1H
BEGIN:VTIMEZONE
TZID:America/Toronto
BEGIN:DAYLIGHT
TZOFFSETFROM:-0500
TZOFFSETTO:-0400
TZNAME:EDT
DTSTART:20230312T070000
END:DAYLIGHT
BEGIN:STANDARD
TZOFFSETFROM:-0400
TZOFFSETTO:-0500
TZNAME:EST
DTSTART:20231105T060000
END:STANDARD
BEGIN:DAYLIGHT
TZOFFSETFROM:-0500
TZOFFSETTO:-0400
TZNAME:EDT
DTSTART:20240310T070000
END:DAYLIGHT
BEGIN:STANDARD
TZOFFSETFROM:-0400
TZOFFSETTO:-0500
TZNAME:EST
DTSTART:20241103T060000
END:STANDARD
BEGIN:DAYLIGHT
TZOFFSETFROM:-0500
TZOFFSETTO:-0400
TZNAME:EDT
DTSTART:20250309T070000
END:DAYLIGHT
BEGIN:STANDARD
TZOFFSETFROM:-0400
TZOFFSETTO:-0500
TZNAME:EST
DTSTART:20251102T060000
END:STANDARD
END:VTIMEZONE
BEGIN:VEVENT
DTSTART;TZID=America/Toronto:20240809T190000
DTEND;TZID=America/Toronto:20240809T230000
DTSTAMP:20260419T201709
CREATED:20240703T182114Z
LAST-MODIFIED:20240703T182114Z
UID:10000403-1723230000-1723244400@communitylivingowensound.com
SUMMARY:Owen Sound Movie Nights
DESCRIPTION:Everyone welcome at the City of Owen Sound event. Community Living Owen Sound & District is a proud sponsor. \nfour summer nights. four great movies. \nto see all details\, visit: Outdoor Neighbourhood Movie Nights | City of Owen Sound
URL:https://communitylivingowensound.com/event/owen-sound-movie-nights/2024-08-09/
CATEGORIES:Passport
ATTACH;FMTTYPE=image/png:https://communitylivingowensound.com/wp-content/uploads/2024/07/movie-nights.png
END:VEVENT
END:VCALENDAR