BEGIN:VCALENDAR
VERSION:2.0
PRODID:-//Community Living Owen Sound and District - ECPv6.15.18//NONSGML v1.0//EN
CALSCALE:GREGORIAN
METHOD:PUBLISH
X-ORIGINAL-URL:https://communitylivingowensound.com
X-WR-CALDESC:Events for Community Living Owen Sound and District
REFRESH-INTERVAL;VALUE=DURATION:PT1H
X-Robots-Tag:noindex
X-PUBLISHED-TTL:PT1H
BEGIN:VTIMEZONE
TZID:America/Toronto
BEGIN:DAYLIGHT
TZOFFSETFROM:-0500
TZOFFSETTO:-0400
TZNAME:EDT
DTSTART:20240310T070000
END:DAYLIGHT
BEGIN:STANDARD
TZOFFSETFROM:-0400
TZOFFSETTO:-0500
TZNAME:EST
DTSTART:20241103T060000
END:STANDARD
BEGIN:DAYLIGHT
TZOFFSETFROM:-0500
TZOFFSETTO:-0400
TZNAME:EDT
DTSTART:20250309T070000
END:DAYLIGHT
BEGIN:STANDARD
TZOFFSETFROM:-0400
TZOFFSETTO:-0500
TZNAME:EST
DTSTART:20251102T060000
END:STANDARD
BEGIN:DAYLIGHT
TZOFFSETFROM:-0500
TZOFFSETTO:-0400
TZNAME:EDT
DTSTART:20260308T070000
END:DAYLIGHT
BEGIN:STANDARD
TZOFFSETFROM:-0400
TZOFFSETTO:-0500
TZNAME:EST
DTSTART:20261101T060000
END:STANDARD
END:VTIMEZONE
BEGIN:VEVENT
DTSTART;TZID=America/Toronto:20250113T090000
DTEND;TZID=America/Toronto:20250113T130000
DTSTAMP:20260420T033745
CREATED:20250103T181144Z
LAST-MODIFIED:20250103T181144Z
UID:10000948-1736758800-1736773200@communitylivingowensound.com
SUMMARY:Glimmer Fairy Door
DESCRIPTION:GLIMMER FAIRY DOOR – Owen Sound Main Office -$35 per person Monday\, January 13\, 2025 – 9:00am – 1:00pm\nUse your imagination and creative skills with crystals and natural material to create your own mini fairy door!
URL:https://communitylivingowensound.com/event/glimmer-fairy-door/
CATEGORIES:Passport
ATTACH;FMTTYPE=image/jpeg:https://communitylivingowensound.com/wp-content/uploads/2025/01/fairy-door.jpg
END:VEVENT
BEGIN:VEVENT
DTSTART;TZID=America/Toronto:20250113T090000
DTEND;TZID=America/Toronto:20250113T130000
DTSTAMP:20260420T033745
CREATED:20250103T181329Z
LAST-MODIFIED:20250103T181329Z
UID:10000949-1736758800-1736773200@communitylivingowensound.com
SUMMARY:Cooking Class: Tuna Casserole
DESCRIPTION:TUNA CASSEROLE – Main Office Owen Sound – $47 per person Monday\, January 13\, 2025 – 9:00am – 11:30am\nTuna Casserole is a traditional comfort food\, take it home to warm up for dinner!
URL:https://communitylivingowensound.com/event/cooking-class-tuna-casserole/
CATEGORIES:Passport
ATTACH;FMTTYPE=image/jpeg:https://communitylivingowensound.com/wp-content/uploads/2025/01/tuna-casserole.jpg
END:VEVENT
END:VCALENDAR