BEGIN:VCALENDAR
VERSION:2.0
PRODID:-//Community Living Owen Sound and District - ECPv6.15.18//NONSGML v1.0//EN
CALSCALE:GREGORIAN
METHOD:PUBLISH
X-WR-CALNAME:Community Living Owen Sound and District
X-ORIGINAL-URL:https://communitylivingowensound.com
X-WR-CALDESC:Events for Community Living Owen Sound and District
REFRESH-INTERVAL;VALUE=DURATION:PT1H
X-Robots-Tag:noindex
X-PUBLISHED-TTL:PT1H
BEGIN:VTIMEZONE
TZID:America/Toronto
BEGIN:DAYLIGHT
TZOFFSETFROM:-0500
TZOFFSETTO:-0400
TZNAME:EDT
DTSTART:20240310T070000
END:DAYLIGHT
BEGIN:STANDARD
TZOFFSETFROM:-0400
TZOFFSETTO:-0500
TZNAME:EST
DTSTART:20241103T060000
END:STANDARD
BEGIN:DAYLIGHT
TZOFFSETFROM:-0500
TZOFFSETTO:-0400
TZNAME:EDT
DTSTART:20250309T070000
END:DAYLIGHT
BEGIN:STANDARD
TZOFFSETFROM:-0400
TZOFFSETTO:-0500
TZNAME:EST
DTSTART:20251102T060000
END:STANDARD
BEGIN:DAYLIGHT
TZOFFSETFROM:-0500
TZOFFSETTO:-0400
TZNAME:EDT
DTSTART:20260308T070000
END:DAYLIGHT
BEGIN:STANDARD
TZOFFSETFROM:-0400
TZOFFSETTO:-0500
TZNAME:EST
DTSTART:20261101T060000
END:STANDARD
END:VTIMEZONE
BEGIN:VEVENT
DTSTART;TZID=America/Toronto:20250207T180000
DTEND;TZID=America/Toronto:20250207T213000
DTSTAMP:20260420T234328
CREATED:20250109T162344Z
LAST-MODIFIED:20250109T162344Z
UID:10001236-1738951200-1738963800@communitylivingowensound.com
SUMMARY:Cosmic Bowling
DESCRIPTION:Friday February 7 2025\nCosmic Bowling- BOWLING ALLEY\, OWEN SOUND- $40 per person  \nLet’s get together with friends and head to the Owen Sound Bowling Alley where we will spend the night bowling under the colourful lights and music.  Bring money if you wish to purchase a snack or drink.\n6pm – 9:30pm
URL:https://communitylivingowensound.com/event/cosmic-bowling/
CATEGORIES:Passport
ATTACH;FMTTYPE=image/jpeg:https://communitylivingowensound.com/wp-content/uploads/2024/10/bowling.jpg
END:VEVENT
END:VCALENDAR