BEGIN:VCALENDAR
VERSION:2.0
PRODID:-//Community Living Owen Sound and District - ECPv6.15.18//NONSGML v1.0//EN
CALSCALE:GREGORIAN
METHOD:PUBLISH
X-ORIGINAL-URL:https://communitylivingowensound.com
X-WR-CALDESC:Events for Community Living Owen Sound and District
REFRESH-INTERVAL;VALUE=DURATION:PT1H
X-Robots-Tag:noindex
X-PUBLISHED-TTL:PT1H
BEGIN:VTIMEZONE
TZID:America/Toronto
BEGIN:DAYLIGHT
TZOFFSETFROM:-0500
TZOFFSETTO:-0400
TZNAME:EDT
DTSTART:20240310T070000
END:DAYLIGHT
BEGIN:STANDARD
TZOFFSETFROM:-0400
TZOFFSETTO:-0500
TZNAME:EST
DTSTART:20241103T060000
END:STANDARD
BEGIN:DAYLIGHT
TZOFFSETFROM:-0500
TZOFFSETTO:-0400
TZNAME:EDT
DTSTART:20250309T070000
END:DAYLIGHT
BEGIN:STANDARD
TZOFFSETFROM:-0400
TZOFFSETTO:-0500
TZNAME:EST
DTSTART:20251102T060000
END:STANDARD
BEGIN:DAYLIGHT
TZOFFSETFROM:-0500
TZOFFSETTO:-0400
TZNAME:EDT
DTSTART:20260308T070000
END:DAYLIGHT
BEGIN:STANDARD
TZOFFSETFROM:-0400
TZOFFSETTO:-0500
TZNAME:EST
DTSTART:20261101T060000
END:STANDARD
END:VTIMEZONE
BEGIN:VEVENT
DTSTART;TZID=America/Toronto:20250213T130000
DTEND;TZID=America/Toronto:20250213T160000
DTSTAMP:20260420T083149
CREATED:20250109T164712Z
LAST-MODIFIED:20250109T164712Z
UID:10001242-1739451600-1739462400@communitylivingowensound.com
SUMMARY:Valentine Coaster DIY
DESCRIPTION:Thursday February 13 2025\nValentine Coasters- MAIN OFFICE\, OWEN SOUND- $45 per person  \nTry out the new way to burn wood with a heat gun and a marker!  Make beautiful coasters for your home or give to someone special for Valentine’s Day.\n1pm – 4:30pm
URL:https://communitylivingowensound.com/event/valentine-coaster-diy/
CATEGORIES:Passport
ATTACH;FMTTYPE=image/jpeg:https://communitylivingowensound.com/wp-content/uploads/2025/01/valentine-coasters.jpg
END:VEVENT
BEGIN:VEVENT
DTSTART;TZID=America/Toronto:20250213T170000
DTEND;TZID=America/Toronto:20250213T180000
DTSTAMP:20260420T083149
CREATED:20250109T164849Z
LAST-MODIFIED:20250109T164849Z
UID:10001243-1739466000-1739469600@communitylivingowensound.com
SUMMARY:Wizards Virtual Reality
DESCRIPTION:Thursday February 13 2025\nWizards VR- MAIN OFFICE\, OWEN SOUND- $52 per person  \nDo you love video games?!  Come try playing them in virtual reality fashion—its like your really in the game!\n5pm – 6pm
URL:https://communitylivingowensound.com/event/wizards-virtual-reality/
CATEGORIES:Passport
ATTACH;FMTTYPE=image/jpeg:https://communitylivingowensound.com/wp-content/uploads/2024/02/VR-arcade.jpg
END:VEVENT
BEGIN:VEVENT
DTSTART;TZID=America/Toronto:20250213T170000
DTEND;TZID=America/Toronto:20250213T200000
DTSTAMP:20260420T083149
CREATED:20250109T165128Z
LAST-MODIFIED:20250109T165128Z
UID:10001244-1739466000-1739476800@communitylivingowensound.com
SUMMARY:Paint Night and Mocktails
DESCRIPTION:Thursday February 13 2025\nPaint Night and Mocktails- 10th STREET\, OWEN SOUND- $53 per person  \nCome join us for the evening at the 10th Street office as we enjoy a night of painting a Valentine themed picture together and enjoy Valentine mocktails and treats.\n5pm – 8pm
URL:https://communitylivingowensound.com/event/paint-night-and-mocktails/
CATEGORIES:Passport
ATTACH;FMTTYPE=image/jpeg:https://communitylivingowensound.com/wp-content/uploads/2025/01/paint-night.jpg
END:VEVENT
END:VCALENDAR