BEGIN:VCALENDAR
VERSION:2.0
PRODID:-//Community Living Owen Sound and District - ECPv6.15.18//NONSGML v1.0//EN
CALSCALE:GREGORIAN
METHOD:PUBLISH
X-ORIGINAL-URL:https://communitylivingowensound.com
X-WR-CALDESC:Events for Community Living Owen Sound and District
REFRESH-INTERVAL;VALUE=DURATION:PT1H
X-Robots-Tag:noindex
X-PUBLISHED-TTL:PT1H
BEGIN:VTIMEZONE
TZID:America/Toronto
BEGIN:DAYLIGHT
TZOFFSETFROM:-0500
TZOFFSETTO:-0400
TZNAME:EDT
DTSTART:20250309T070000
END:DAYLIGHT
BEGIN:STANDARD
TZOFFSETFROM:-0400
TZOFFSETTO:-0500
TZNAME:EST
DTSTART:20251102T060000
END:STANDARD
BEGIN:DAYLIGHT
TZOFFSETFROM:-0500
TZOFFSETTO:-0400
TZNAME:EDT
DTSTART:20260308T070000
END:DAYLIGHT
BEGIN:STANDARD
TZOFFSETFROM:-0400
TZOFFSETTO:-0500
TZNAME:EST
DTSTART:20261101T060000
END:STANDARD
BEGIN:DAYLIGHT
TZOFFSETFROM:-0500
TZOFFSETTO:-0400
TZNAME:EDT
DTSTART:20270314T070000
END:DAYLIGHT
BEGIN:STANDARD
TZOFFSETFROM:-0400
TZOFFSETTO:-0500
TZNAME:EST
DTSTART:20271107T060000
END:STANDARD
END:VTIMEZONE
BEGIN:VEVENT
DTSTART;TZID=America/Toronto:20260223T090000
DTEND;TZID=America/Toronto:20260223T150000
DTSTAMP:20260421T022609
CREATED:20260113T181415Z
LAST-MODIFIED:20260113T181415Z
UID:10003737-1771837200-1771858800@communitylivingowensound.com
SUMMARY:Ice Fishing in Orangeville with Passport
DESCRIPTION:Ice Fishing in Orangeville\nDate: Monday\, February 23 Time: 9am-3pm\nCost: $128 \nRSVP by: Feb 1 \nLocation: Orangeville\, ON \n \nBundle up and enjoy a true Canadian winter experience with a day of ice fishing in Orangeville! Whether you’re a seasoned angler or trying it for the first time\, it’s the perfect mix of fresh air\, friends\, and fun out on the frozen lake. !
URL:https://communitylivingowensound.com/event/ice-fishing-in-orangeville-with-passport/
CATEGORIES:Passport
ATTACH;FMTTYPE=image/png:https://communitylivingowensound.com/wp-content/uploads/2026/01/ice-fishing.png
END:VEVENT
BEGIN:VEVENT
DTSTART;TZID=America/Toronto:20260223T120000
DTEND;TZID=America/Toronto:20260223T160000
DTSTAMP:20260421T022609
CREATED:20260113T181253Z
LAST-MODIFIED:20260113T181253Z
UID:10003736-1771848000-1771862400@communitylivingowensound.com
SUMMARY:Pizza Making Class with Passport
DESCRIPTION:Pizza Making Class \nDate: Monday\, February 23 Time: 12-4pm\nCost: $110 \nRSVP by: Jan 31 Location: Meaford Arena \nMeeting Location: 1290 3rd Offices \n \nRoll\, top\, and bake your own personal pizza masterpiece in this hands-on culinary class! Learn the secrets of perfect dough and sauce while enjoying delicious fun with friends.
URL:https://communitylivingowensound.com/event/pizza-making-class-with-passport/
CATEGORIES:Passport
ATTACH;FMTTYPE=image/jpeg:https://communitylivingowensound.com/wp-content/uploads/2025/01/pizza-dough.jpg
END:VEVENT
END:VCALENDAR