BEGIN:VCALENDAR
VERSION:2.0
PRODID:-//Community Living Owen Sound and District - ECPv6.15.18//NONSGML v1.0//EN
CALSCALE:GREGORIAN
METHOD:PUBLISH
X-WR-CALNAME:Community Living Owen Sound and District
X-ORIGINAL-URL:https://communitylivingowensound.com
X-WR-CALDESC:Events for Community Living Owen Sound and District
REFRESH-INTERVAL;VALUE=DURATION:PT1H
X-Robots-Tag:noindex
X-PUBLISHED-TTL:PT1H
BEGIN:VTIMEZONE
TZID:America/Toronto
BEGIN:DAYLIGHT
TZOFFSETFROM:-0500
TZOFFSETTO:-0400
TZNAME:EDT
DTSTART:20240310T070000
END:DAYLIGHT
BEGIN:STANDARD
TZOFFSETFROM:-0400
TZOFFSETTO:-0500
TZNAME:EST
DTSTART:20241103T060000
END:STANDARD
BEGIN:DAYLIGHT
TZOFFSETFROM:-0500
TZOFFSETTO:-0400
TZNAME:EDT
DTSTART:20250309T070000
END:DAYLIGHT
BEGIN:STANDARD
TZOFFSETFROM:-0400
TZOFFSETTO:-0500
TZNAME:EST
DTSTART:20251102T060000
END:STANDARD
BEGIN:DAYLIGHT
TZOFFSETFROM:-0500
TZOFFSETTO:-0400
TZNAME:EDT
DTSTART:20260308T070000
END:DAYLIGHT
BEGIN:STANDARD
TZOFFSETFROM:-0400
TZOFFSETTO:-0500
TZNAME:EST
DTSTART:20261101T060000
END:STANDARD
BEGIN:DAYLIGHT
TZOFFSETFROM:-0500
TZOFFSETTO:-0400
TZNAME:EDT
DTSTART:20270314T070000
END:DAYLIGHT
BEGIN:STANDARD
TZOFFSETFROM:-0400
TZOFFSETTO:-0500
TZNAME:EST
DTSTART:20271107T060000
END:STANDARD
END:VTIMEZONE
BEGIN:VEVENT
DTSTART;TZID=America/Toronto:20260130T140000
DTEND;TZID=America/Toronto:20260131T010000
DTSTAMP:20260421T110910
CREATED:20251216T153434Z
LAST-MODIFIED:20251216T153434Z
UID:10003725-1769781600-1769821200@communitylivingowensound.com
SUMMARY:Romeo & Juliet (w/Passport)
DESCRIPTION:Romeo & Juliet (w/Passport)\nDate: Friday\, January 30\nTime: 2pm-1am\nCost: $320 \nRSVP by: January 9 Location: Toronto \n \nExperience Shakespeare’s timeless tragedy live on stage! Join us for an emotional and beautifully performed production of Romeo & Juliet — a story of love\, fate\, and powerful performances. A great opportunity for theatre lovers and anyone who enjoys a dramatic night out.
URL:https://communitylivingowensound.com/event/romeo-juliet-w-passport/
CATEGORIES:Passport
ATTACH;FMTTYPE=image/jpeg:https://communitylivingowensound.com/wp-content/uploads/2025/12/romeo-and-juliet.jpg
END:VEVENT
BEGIN:VEVENT
DTSTART;TZID=America/Toronto:20260130T090000
DTEND;TZID=America/Toronto:20260130T150000
DTSTAMP:20260421T110911
CREATED:20251216T153303Z
LAST-MODIFIED:20251216T153303Z
UID:10003724-1769763600-1769785200@communitylivingowensound.com
SUMMARY:Plunge Pool & Ridge Runner (w/Passport)
DESCRIPTION:Plunge Pool & Ridge Runner (w/Passport)\nDate: Friday\, January 30 Time: 9am-3pm\nCost: $165 \nRSVP by: Jan 15 \nLocation: Collingwood\, ON \n \nStart your day with a relaxing soak in the heated outdoor plunge pool — surrounded by the winter beauty of Blue Mountain. Then hold on tight as you zip down the Ridge Runner mountain coaster\, a thrilling ride with stunning views and exciting twists. A perfect mix of chill and thrill!
URL:https://communitylivingowensound.com/event/plunge-pool-ridge-runner-w-passport/
CATEGORIES:Passport
ATTACH;FMTTYPE=image/jpeg:https://communitylivingowensound.com/wp-content/uploads/2024/12/plunge-pool.jpg
END:VEVENT
BEGIN:VEVENT
DTSTART;TZID=America/Toronto:20260129T143000
DTEND;TZID=America/Toronto:20260129T183000
DTSTAMP:20260421T110911
CREATED:20251216T153147Z
LAST-MODIFIED:20251216T153147Z
UID:10003723-1769697000-1769711400@communitylivingowensound.com
SUMMARY:Wizard VR & Climber’s Crush (w/Passport)
DESCRIPTION:Wizard VR & Climber’s Crush (w/Passport)\nDate: Thursday\, January 29 Time: 2:30-6:30pm\nCost: $127 \nRSVP by: Dec 20 \n \nGet ready for a thrilling double-feature day at the mall! Start by immersing yourself in virtual worlds with the latest VR tech\, then challenge yourself with some indoor rock climbing — no experience needed\, just bring your sense of adventure! !
URL:https://communitylivingowensound.com/event/wizard-vr-climbers-crush-w-passport/
CATEGORIES:Passport
ATTACH;FMTTYPE=image/jpeg:https://communitylivingowensound.com/wp-content/uploads/2025/12/climbers-crush.jpg
END:VEVENT
BEGIN:VEVENT
DTSTART;TZID=America/Toronto:20260128T140000
DTEND;TZID=America/Toronto:20260129T010000
DTSTAMP:20260421T110911
CREATED:20251216T153047Z
LAST-MODIFIED:20251216T153047Z
UID:10003722-1769608800-1769648400@communitylivingowensound.com
SUMMARY:Courtside @ Harlem Globetrotters (w/Passport)
DESCRIPTION:Courtside @ Harlem Globetrotters (w/Passport)\nDate: Wednesday\, January 28 Time: 2pm-1am\nCost: $180 \nRSVP by: Jan 21 \n \nJoin us for an unforgettable night of slam dunks\, trick shots\, and hilarious hijinks as the legendary Harlem Globetrotters bring their one-of-a-kind basketball show to London! This fun-filled event is perfect for fans of all ages and guarantees lots of laughs
URL:https://communitylivingowensound.com/event/courtside-harlem-globetrotters-w-passport/
CATEGORIES:Passport
ATTACH;FMTTYPE=image/png:https://communitylivingowensound.com/wp-content/uploads/2025/05/basketball.png
END:VEVENT
BEGIN:VEVENT
DTSTART;TZID=America/Toronto:20260126T140000
DTEND;TZID=America/Toronto:20260127T010000
DTSTAMP:20260421T110911
CREATED:20251216T152931Z
LAST-MODIFIED:20251216T152931Z
UID:10003721-1769436000-1769475600@communitylivingowensound.com
SUMMARY:WWE Monday Night RAW (w/Passport)
DESCRIPTION:WWE Monday Night RAW (w/Passport)\nDate: Monday\, January 26 Time: 2pm – 1am\nCost: $265 \nRSVP by: Jan 19 Location: Toronto\, ON \n \nGet ready to feel the adrenaline! Join us for Monday Night RAW at Scotiabank Arena in Toronto and witness the electrifying world of WWE live! From legendary superstars to jaw- dropping moves and surprise appearances\, this night promises edge-of-your-seat excitement and unforgettable entertainment. !
URL:https://communitylivingowensound.com/event/wwe-monday-night-raw-w-passport/
CATEGORIES:Passport
ATTACH;FMTTYPE=image/jpeg:https://communitylivingowensound.com/wp-content/uploads/2025/12/WWE.jpg
END:VEVENT
BEGIN:VEVENT
DTSTART;TZID=America/Toronto:20260125T110000
DTEND;TZID=America/Toronto:20260125T180000
DTSTAMP:20260421T110911
CREATED:20251216T152710Z
LAST-MODIFIED:20251216T152710Z
UID:10003720-1769338800-1769364000@communitylivingowensound.com
SUMMARY:Playdium Brampton (w/Passport)
DESCRIPTION:Playdium Brampton (w/Passport)\nDate: Sunday\, January 25 Time: 11am-6pm\nCost: $225 \nRSVP by: Dec 20 Location: Brampton \n \nGear up for a day of high-energy fun at Playdium in Brampton! From arcade classics to virtual reality games and exciting attractions\, there’s something for everyone to enjoy at this massive indoor entertainment centre.
URL:https://communitylivingowensound.com/event/playdium-brampton-w-passport/
CATEGORIES:Passport
ATTACH;FMTTYPE=image/jpeg:https://communitylivingowensound.com/wp-content/uploads/2025/08/arcade.jpg
END:VEVENT
BEGIN:VEVENT
DTSTART;TZID=America/Toronto:20260123T163000
DTEND;TZID=America/Toronto:20260123T213000
DTSTAMP:20260421T110911
CREATED:20251216T152316Z
LAST-MODIFIED:20251216T152316Z
UID:10003718-1769185800-1769203800@communitylivingowensound.com
SUMMARY:Dinner & Movie Night (w/Passport)
DESCRIPTION:Dinner & Movie Night (w/Passport) \nDate: Friday\, January 23 Time: 4:30-9:30pm Cost: $69 \nRSVP by: Jan 15 \nLocation: Owen Sound\, ON: 1290 \n \n🍽🎬 Treat yourself to a cozy evening out with dinner at a local restaurant followed by a trip to the movies! Whether you’re into action\, comedy\, or a good tearjerker\, this classic combo is always a hit—don’t forget your popcorn!
URL:https://communitylivingowensound.com/event/dinner-movie-night-w-passport/
CATEGORIES:Passport
ATTACH;FMTTYPE=image/jpeg:https://communitylivingowensound.com/wp-content/uploads/2024/05/Movie-Night.jpg
END:VEVENT
BEGIN:VEVENT
DTSTART;TZID=America/Toronto:20260123T130000
DTEND;TZID=America/Toronto:20260123T170000
DTSTAMP:20260421T110911
CREATED:20251216T152536Z
LAST-MODIFIED:20251216T152536Z
UID:10003719-1769173200-1769187600@communitylivingowensound.com
SUMMARY:Rabbit Fur Mitten Workshop (w/Passport)
DESCRIPTION:Rabbit Fur Mitten Workshop (w/Passport) \nDate: Friday\, January 23 Time: 1-5pm\nCost: $180 \nRSVP by: Jan 7 \nLocation: Main Office OS \n \n  \nWarm up this winter with a hands-on mitten-making workshop! Using traditional techniques and soft rabbit fur\, you’ll craft your own pair of cozy mitts while learning about the art and care that goes into this beautiful winterwear. No experience necessary—just bring your creativity and a love of handmade!
URL:https://communitylivingowensound.com/event/rabbit-fur-mitten-workshop-w-passport/
CATEGORIES:Passport
ATTACH;FMTTYPE=image/jpeg:https://communitylivingowensound.com/wp-content/uploads/2025/12/rabbit-fur-mittens.jpg
END:VEVENT
BEGIN:VEVENT
DTSTART;TZID=America/Toronto:20260117T180000
DTEND;TZID=America/Toronto:20260117T230000
DTSTAMP:20260421T110911
CREATED:20251216T152118Z
LAST-MODIFIED:20251216T152118Z
UID:10003717-1768672800-1768690800@communitylivingowensound.com
SUMMARY:Comic Bowling & Pool (w/Passport)
DESCRIPTION:Comic Bowling & Pool (w/Passport)\nDate: Saturday\, January 17 Time: 6-11pm\nCost: $100 \nRSVP by: Jan 13 Location: Owen Sound \n \nGet ready to light up the lanes with glow-in-the-dark cosmic bowling followed by some friendly competition at the pool tables! It’s the perfect mix of high-energy fun and chill vibes—bring your A-game and your best dance moves for this night under the neon lights!
URL:https://communitylivingowensound.com/event/comic-bowling-pool-w-passport/
CATEGORIES:Passport
ATTACH;FMTTYPE=image/jpeg:https://communitylivingowensound.com/wp-content/uploads/2024/05/billiards-and-bowling.jpg
END:VEVENT
BEGIN:VEVENT
DTSTART;TZID=America/Toronto:20260116T170000
DTEND;TZID=America/Toronto:20260116T233000
DTSTAMP:20260421T110911
CREATED:20251216T151802Z
LAST-MODIFIED:20251216T151802Z
UID:10003716-1768582800-1768606200@communitylivingowensound.com
SUMMARY:Wizard of Oz Live Theatre (w/Passport)
DESCRIPTION:Wizard of Oz Live Theatre (w/Passport)\nDate: Friday\, January 16\nTime: 5:15-11:15pm\nCost: $140 \nRSVP by: Dec 20 \nLocation: Collingwood\, ON \n \nFollow the Yellow Brick Road to a magical evening of live theatre as The Wizard of Oz takes the stage in Collingwood! From flying monkeys to ruby slippers\, experience all the wonder\, music\, and heart of this beloved story brought to life—perfect for fans of all ages.!
URL:https://communitylivingowensound.com/event/wizard-of-oz-live-theatre-w-passport/
CATEGORIES:Passport
ATTACH;FMTTYPE=image/jpeg:https://communitylivingowensound.com/wp-content/uploads/2025/12/wizard-of-oz.jpg
END:VEVENT
BEGIN:VEVENT
DTSTART;TZID=America/Toronto:20260116T150000
DTEND;TZID=America/Toronto:20260116T200000
DTSTAMP:20260421T110911
CREATED:20251216T151422Z
LAST-MODIFIED:20251216T151422Z
UID:10003715-1768575600-1768593600@communitylivingowensound.com
SUMMARY:Game Night (w/Passport)
DESCRIPTION:Game Night (w/Passport)\nDate: Friday\, January 16 Time: 3-8pm\nCost: $70 \nRSVP by: Jan 9 \nLocation: Main Office OS \n \nJoin us for an evening of games\, laughter\, and friendly competition at the main office! Whether you’re into cards\, trivia\, or classic board games\, there’s something for everyone to enjoy—plus snacks\, and great company.!
URL:https://communitylivingowensound.com/event/game-night-w-passport/
CATEGORIES:Passport
ATTACH;FMTTYPE=image/jpeg:https://communitylivingowensound.com/wp-content/uploads/2024/10/board-games.jpg
END:VEVENT
BEGIN:VEVENT
DTSTART;TZID=America/Toronto:20260112T110000
DTEND;TZID=America/Toronto:20260112T180000
DTSTAMP:20260421T110911
CREATED:20251216T150925Z
LAST-MODIFIED:20251216T150925Z
UID:10003714-1768215600-1768240800@communitylivingowensound.com
SUMMARY:Indoor Paintball (w/Passport)
DESCRIPTION:Indoor Paintball (w/Passport)\nDate: Monday\, January 12 Time: 11am-6pm\nCost: $185 \nRSVP by: Jan 2 Location: Kitchener\, ON \n  \n \nGear up for an adrenaline-pumping day of indoor paintball! Dodge\, dive\, and strategize your way through epic games in a safe\, high-energy arena—perfect for those looking to unleash their competitive side and have a blast with friends!
URL:https://communitylivingowensound.com/event/indoor-paintball-w-passport/
CATEGORIES:Passport
ATTACH;FMTTYPE=image/jpeg:https://communitylivingowensound.com/wp-content/uploads/2024/07/paintball.jpg
END:VEVENT
BEGIN:VEVENT
DTSTART;TZID=America/Toronto:20260111T080000
DTEND;TZID=America/Toronto:20260111T160000
DTSTAMP:20260421T110911
CREATED:20251216T150657Z
LAST-MODIFIED:20251216T150657Z
UID:10003713-1768118400-1768147200@communitylivingowensound.com
SUMMARY:Cinderella: The Panto (w/Passport)
DESCRIPTION:Cinderella: The Panto (w/Passport)\nDate: Sunday\, January 11 Time: 8am-4pm\nCost: $202 \nRSVP by: Jan 1 \nLocation: St. Jacob’s Country Playhouse \n \nGet ready for laughs\, magic\, and a whole lot of audience participation at Cinderella: The Panto! This hilarious and heartwarming twist on the classic fairytale is perfect for a fun-filled afternoon of singing\, silliness\, and live theatre magic!
URL:https://communitylivingowensound.com/event/cinderella-the-panto-w-passport/
CATEGORIES:Passport
ATTACH;FMTTYPE=image/jpeg:https://communitylivingowensound.com/wp-content/uploads/2025/12/cinderella.jpg
END:VEVENT
BEGIN:VEVENT
DTSTART;TZID=America/Toronto:20260109T160000
DTEND;TZID=America/Toronto:20260110T010000
DTSTAMP:20260421T110911
CREATED:20251216T150414Z
LAST-MODIFIED:20251216T150414Z
UID:10003712-1767974400-1768006800@communitylivingowensound.com
SUMMARY:Blue Rodeo Concert (w/Passport)
DESCRIPTION:Blue Rodeo Concert (w/Passport) \n Date: Friday\, January 9 Time: 4pm – 1am Cost: $252 \nRSVP by: Dec 30 Location: Kitchener\, ON \n \n  \nJoin us for an unforgettable night with Canadian country-rock legends\, Blue Rodeo! Sing along to classic hits and soak in the incredible live energy of this iconic band as they take the stage for a winter concert to remember.!
URL:https://communitylivingowensound.com/event/blue-rodeo-concert-w-passport/
CATEGORIES:Passport
ATTACH;FMTTYPE=image/jpeg:https://communitylivingowensound.com/wp-content/uploads/2024/03/live-music.jpg
END:VEVENT
BEGIN:VEVENT
DTSTART;TZID=America/Toronto:20260106T080000
DTEND;TZID=America/Toronto:20260106T170000
DTSTAMP:20260421T110911
CREATED:20251216T150109Z
LAST-MODIFIED:20251216T150109Z
UID:10003711-1767686400-1767718800@communitylivingowensound.com
SUMMARY:Movie Night: Avatar 3 (w/Passport)
DESCRIPTION:Movie Night: Avatar 3 (w/Passport)\nDate: Tuesday\, January 6 Time: TBD\nCost: $65 \nRSVP by: Dec20 \nLocation: Galaxy Cinemas OS \n \nStep into the breathtaking world of Pandora as we head out to see Avatar 3 on the big screen! Expect epic visuals\, thrilling adventure\, and a fun night out with friends to kick off the new year right!
URL:https://communitylivingowensound.com/event/movie-night-avatar-3-w-passport/
CATEGORIES:Passport
ATTACH;FMTTYPE=image/jpeg:https://communitylivingowensound.com/wp-content/uploads/2024/05/Movie-Night.jpg
END:VEVENT
BEGIN:VEVENT
DTSTART;TZID=America/Toronto:20260102T170000
DTEND;TZID=America/Toronto:20260102T220000
DTSTAMP:20260421T110911
CREATED:20251216T145917Z
LAST-MODIFIED:20251216T145917Z
UID:10003710-1767373200-1767391200@communitylivingowensound.com
SUMMARY:Blue Mountain Village Scenery Walk (w/Passport)
DESCRIPTION:Blue Mountain Village Scenery Walk (w/Passport)\nDate: Friday\, January 2 Time: 5-10pm\nCost: $65 \nRSVP by: Dec 20 \nLocation: Collingwood\, ON \n \nStart the new year with a peaceful stroll through the picturesque Blue Mountain Village! Enjoy crisp winter air\, cozy shops\, snowy views\, and a chance to shake off the post-holiday blues with friends and fresh air!
URL:https://communitylivingowensound.com/event/blue-mountain-village-scenery-walk-w-passport/
CATEGORIES:Passport
ATTACH;FMTTYPE=image/jpeg:https://communitylivingowensound.com/wp-content/uploads/2025/12/blue-mtn-scenery-walk.jpg
END:VEVENT
BEGIN:VEVENT
DTSTART;TZID=America/Toronto:20251229T093000
DTEND;TZID=America/Toronto:20251229T180000
DTSTAMP:20260421T110911
CREATED:20251125T151639Z
LAST-MODIFIED:20251125T151639Z
UID:10003179-1767000600-1767031200@communitylivingowensound.com
SUMMARY:Passport: Christmas Escape Room & Shopping
DESCRIPTION:Passport: Christmas Escape Room & Shopping\n  \nDate: Monday\, December 29 Time: 9:30am-6pm\nCost: $145 \nRSVP by: Dec 22 Location: Barrie\, ON \n  \n \nPut your puzzle-solving skills to the test with this holly-jolly escape room challenge! Work together as a team to crack the Christmas code and save the season in this festive\, fast- paced holiday adventure..
URL:https://communitylivingowensound.com/event/passport-christmas-escape-room-shopping/
CATEGORIES:Passport
ATTACH;FMTTYPE=image/jpeg:https://communitylivingowensound.com/wp-content/uploads/2025/11/christmas-escape-room.jpg
END:VEVENT
BEGIN:VEVENT
DTSTART;TZID=America/Toronto:20251220T090000
DTEND;TZID=America/Toronto:20251220T173000
DTSTAMP:20260421T110911
CREATED:20251125T151534Z
LAST-MODIFIED:20251125T151534Z
UID:10003178-1766221200-1766251800@communitylivingowensound.com
SUMMARY:Passport: Casa Loma Wreath Workshop
DESCRIPTION:Passport: Casa Loma Wreath Workshop\n  \nDate: Saturday\, December 20 Time: 9am-5:30pm\nCost: $152 \nRSVP by: Dec 11 Location: Toronto\, ON \n \nGet into the festive spirit with a magical evening of wreath making at Casa Loma! Surrounded by twinkling lights and castle charm\, you’ll create your own holiday wreath to take home — all materials included and no experience needed..
URL:https://communitylivingowensound.com/event/passport-casa-loma-wreath-workshop/
CATEGORIES:Passport
ATTACH;FMTTYPE=image/jpeg:https://communitylivingowensound.com/wp-content/uploads/2025/11/wreath-workshop.jpg
END:VEVENT
BEGIN:VEVENT
DTSTART;TZID=America/Toronto:20251219T170000
DTEND;TZID=America/Toronto:20251219T220000
DTSTAMP:20260421T110911
CREATED:20251125T151332Z
LAST-MODIFIED:20251125T151332Z
UID:10003176-1766163600-1766181600@communitylivingowensound.com
SUMMARY:Passport: Magic of Lights
DESCRIPTION:Passport: Magic of Lights\n Date: Friday\, December 19 Time: 5-10pm \nCost: $80 \nRSVP by: Nov 31 \nLocation: Springwater Provincial Park \n \nExperience the holiday season in glowing style! Drive through the spectacular Magic of Lights display at Springwater Provincial Park\, where dazzling light installations and festive animations light up the night. A cozy\, magical outing perfect for getting into the holiday spirit!
URL:https://communitylivingowensound.com/event/passport-magic-of-lights/
CATEGORIES:Passport
ATTACH;FMTTYPE=image/jpeg:https://communitylivingowensound.com/wp-content/uploads/2025/11/magic-of-lights.jpg
END:VEVENT
BEGIN:VEVENT
DTSTART;TZID=America/Toronto:20251219T130000
DTEND;TZID=America/Toronto:20251219T173000
DTSTAMP:20260421T110911
CREATED:20251125T151440Z
LAST-MODIFIED:20251125T151440Z
UID:10003177-1766149200-1766165400@communitylivingowensound.com
SUMMARY:Passport: 12 Days of Christmas Dollarstore DIY Crafts
DESCRIPTION:Passport: 12 Days of Christmas Dollarstore DIY Crafts\n  \nDate: Friday\, December 19 Time: 1-5:30pm\nCost: $106 \nRSVP by: Nov 24 Location: Main Office\, ON \n \nGet crafty and celebrate the season! Join us for a fun-filled day of festive Dollarstore DIY projects inspired by the 12 Days of Christmas. From turtle dove ornaments to golden ring garlands\, you’ll create holiday treasures to take home or give as gifts. All supplies included—just bring your holiday cheer!
URL:https://communitylivingowensound.com/event/passport-12-days-of-christmas-dollarstore-diy-crafts/
CATEGORIES:Passport
ATTACH;FMTTYPE=image/jpeg:https://communitylivingowensound.com/wp-content/uploads/2025/11/christmas-crafts.jpg
END:VEVENT
BEGIN:VEVENT
DTSTART;TZID=America/Toronto:20251218T143000
DTEND;TZID=America/Toronto:20251218T183000
DTSTAMP:20260421T110911
CREATED:20251125T151219Z
LAST-MODIFIED:20251125T151219Z
UID:10003175-1766068200-1766082600@communitylivingowensound.com
SUMMARY:Passport: Wizard VR & Pokemon Christmas Decorating
DESCRIPTION:Passport: Wizard VR & Pokemon Christmas Decorating\n  \nDate: Thursday\, December 18 Time: 2:30-6:30pm\nCost: $117 \nRSVP by: Nov 31 \nLocation: Heritage Place Mall \n \nStep into a world of enchantment and adventure! Enjoy an immersive Wizard VR experience and then get creative with Pokémon-themed holiday decorating. This magical combo of tech and craft is perfect for fans of fantasy\, fun\, and festive cheer!
URL:https://communitylivingowensound.com/event/passport-wizard-vr-pokemon-christmas-decorating/
CATEGORIES:Passport
ATTACH;FMTTYPE=image/jpeg:https://communitylivingowensound.com/wp-content/uploads/2024/02/VR-arcade.jpg
END:VEVENT
BEGIN:VEVENT
DTSTART;TZID=America/Toronto:20251217T160000
DTEND;TZID=America/Toronto:20251218T010000
DTSTAMP:20260421T110911
CREATED:20251125T150940Z
LAST-MODIFIED:20251125T150940Z
UID:10003174-1765987200-1766019600@communitylivingowensound.com
SUMMARY:Passport: Holiday Dreams
DESCRIPTION:Passport: Holiday Dreams\nDate: Wednesday\, December 17 Time: 4pm-1am\nCost: $137 \nRSVP by: Dec 1 Location: Kitchener\, ON \n \nStep into a world of holiday magic at Holiday Dreams—a dazzling theatrical celebration featuring high-flying acrobatics\, jaw-dropping illusions\, festive music\, and holiday cheer! \nThis modern holiday cirque experience blends cutting-edge technology with timeless \nseasonal spirit for a night that’s as heartwarming as it is awe-inspiring.
URL:https://communitylivingowensound.com/event/passport-holiday-dreams/
CATEGORIES:Passport
ATTACH;FMTTYPE=image/png:https://communitylivingowensound.com/wp-content/uploads/2025/11/Screenshot-2025-11-25-100818.png
END:VEVENT
BEGIN:VEVENT
DTSTART;TZID=America/Toronto:20251215T120000
DTEND;TZID=America/Toronto:20251215T170000
DTSTAMP:20260421T110911
CREATED:20251125T150549Z
LAST-MODIFIED:20251125T150549Z
UID:10003173-1765800000-1765818000@communitylivingowensound.com
SUMMARY:Passport: Cookie & Brownie Baking & Decorating Class
DESCRIPTION:Passport: Cookie & Brownie Baking & Decorating Class\n  \nDate: Monday\, December 15\nTime: 12-5pm Cost: $147 RSVP by: Nov 31 \nLocation: Meaford\, ON \n \nGet into the holiday spirit with a sweet and creative class decorating cookies and \nbrownies! From snowflakes to candy canes\, you’ll be provided with everything you need to design and take home your own delicious masterpieces. Perfect for beginners and seasoned bakers alike!
URL:https://communitylivingowensound.com/event/passport-cookie-brownie-baking-decorating-class/
CATEGORIES:Passport
ATTACH;FMTTYPE=image/jpeg:https://communitylivingowensound.com/wp-content/uploads/2025/11/christmas-cookie.jpg
END:VEVENT
BEGIN:VEVENT
DTSTART;TZID=America/Toronto:20251212T160000
DTEND;TZID=America/Toronto:20251213T010000
DTSTAMP:20260421T110911
CREATED:20251125T150425Z
LAST-MODIFIED:20251125T150425Z
UID:10003172-1765555200-1765587600@communitylivingowensound.com
SUMMARY:Passport: Serena Ryder Christmas
DESCRIPTION:Passport: Serena Ryder Christmas\n  \nDate: Friday\, December 12 Time: 4pm-1am\nCost: $230 \nRSVP by: Dec 5 Location: Guelph\, ON \n  \n \nCelebrate the season with the soulful sounds of Serena Ryder as she brings her unique voice and heartfelt holiday favourites to the stage in Guelph. This magical concert \npromises an evening of cozy cheer\, classic carols\, and seasonal spirit you won’t want to miss!
URL:https://communitylivingowensound.com/event/passport-serena-ryder-christmas/
CATEGORIES:Passport
ATTACH;FMTTYPE=image/jpeg:https://communitylivingowensound.com/wp-content/uploads/2024/03/live-music.jpg
END:VEVENT
BEGIN:VEVENT
DTSTART;TZID=America/Toronto:20251211T153000
DTEND;TZID=America/Toronto:20251212T003000
DTSTAMP:20260421T110911
CREATED:20251125T150312Z
LAST-MODIFIED:20251125T150312Z
UID:10003171-1765467000-1765499400@communitylivingowensound.com
SUMMARY:Passport: Brad Paisley Concert
DESCRIPTION:Passport: Brad Paisley Concert\nDate: Thursday\, December 11 Time: 3:30pm-12:30am\nCost: $170 \nRSVP by: Dec 4 Location: London\, ON \ncountry music \nCountry fans\, get ready! We’re heading to London to see the legendary Brad Paisley hit the stage with his signature guitar riffs and heartfelt hits. Expect an unforgettable night of music\, energy\, and maybe even a few cowboy hats!
URL:https://communitylivingowensound.com/event/passport-brad-paisley-concert/
CATEGORIES:Passport
ATTACH;FMTTYPE=image/jpeg:https://communitylivingowensound.com/wp-content/uploads/2024/04/kenny-and-dolly.jpg
END:VEVENT
BEGIN:VEVENT
DTSTART;TZID=America/Toronto:20251211T150000
DTEND;TZID=America/Toronto:20251211T230000
DTSTAMP:20260421T110911
CREATED:20251125T145730Z
LAST-MODIFIED:20251125T145730Z
UID:10003170-1765465200-1765494000@communitylivingowensound.com
SUMMARY:Passport: First Light St Marie Among the Hurons
DESCRIPTION:Passport: First Light St Marie Among the Hurons \n Date: Thursday\, December 11 Time: 3-11pm \nCost: $133 \nRSVP by: Dec 1 Location: Midland\, ON \n \nStep into a magical evening at Sainte-Marie among the Hurons\, beautifully lit by thousands of candles and lanterns! This immersive experience blends Indigenous and French- Canadian history with live music\, crafts\, food\, and holiday spirit. It’s the perfect way to kick off the Christmas season—dress warm and get ready to be enchanted!
URL:https://communitylivingowensound.com/event/passport-first-light-st-marie-among-the-hurons/
CATEGORIES:Passport
ATTACH;FMTTYPE=image/jpeg:https://communitylivingowensound.com/wp-content/uploads/2025/11/first-light.jpg
END:VEVENT
BEGIN:VEVENT
DTSTART;TZID=America/Toronto:20251208T160000
DTEND;TZID=America/Toronto:20251209T010000
DTSTAMP:20260421T110911
CREATED:20251125T145544Z
LAST-MODIFIED:20251125T145544Z
UID:10003169-1765209600-1765242000@communitylivingowensound.com
SUMMARY:Passport: Machine Gun Kelly Concert
DESCRIPTION:Passport: Machine Gun Kelly Concert\nDate: Monday\, December 8 Time: 4pm – 1am\nCost: $301 \nRSVP by: Nov 24 Location: Hamilton\, ON \n \nWe’re heading to Hamilton for an adrenaline-pumping night with Machine Gun Kelly! \nWhether you’re a fan of his punk-rock anthems or rap hits\, this concert promises an \nunforgettable experience packed with energy\, lights\, and loud music. Let’s go make some \nnoise!
URL:https://communitylivingowensound.com/event/passport-machine-gun-kelly-concert/
CATEGORIES:Passport
ATTACH;FMTTYPE=image/jpeg:https://communitylivingowensound.com/wp-content/uploads/2024/03/live-music.jpg
END:VEVENT
BEGIN:VEVENT
DTSTART;TZID=America/Toronto:20251206T173000
DTEND;TZID=America/Toronto:20251206T220000
DTSTAMP:20260421T110911
CREATED:20251125T145424Z
LAST-MODIFIED:20251125T145424Z
UID:10003168-1765042200-1765058400@communitylivingowensound.com
SUMMARY:Passport: Barra MacNeil’s Christmas Concert & Carroling
DESCRIPTION:Passport: Barra MacNeil’s Christmas Concert & Carroling \nDate: Saturday\, December 6 Time: 5:30-10pm\nCost: $156 \nRSVP by: Nov 29 Location: Roxy Theatre \n \nGet into the holiday spirit with an evening of festive fun! We’ll start with a cheerful caroling walk\, spreading holiday joy through music\, then head to see the beloved Barra MacNeils live in concert—an East Coast Celtic celebration full of Christmas classics\, storytelling\, and beautiful harmonies!
URL:https://communitylivingowensound.com/event/passport-barra-macneils-christmas-concert-carroling/
CATEGORIES:Passport
ATTACH;FMTTYPE=image/jpeg:https://communitylivingowensound.com/wp-content/uploads/2025/11/christmas-concert.jpg
END:VEVENT
BEGIN:VEVENT
DTSTART;TZID=America/Toronto:20251205T170000
DTEND;TZID=America/Toronto:20251205T233000
DTSTAMP:20260421T110911
CREATED:20251125T145211Z
LAST-MODIFIED:20251125T145211Z
UID:10003166-1764954000-1764977400@communitylivingowensound.com
SUMMARY:Passport: Santa’s Nightcap Train Ride
DESCRIPTION:Passport: Santa’s Nightcap Train Ride\nDate: Friday\, December 5 Time: 5pm-12am\nCost: $230 \nRSVP by: \nLocation: Waterloo \n  \n \nClimb aboard a charming heritage train for an enchanting evening ride filled with twinkling lights\, warm drinks\, and Christmas cheer. Enjoy a cozy ride through the countryside as Santa makes a special appearance before he tucks in for the night!!
URL:https://communitylivingowensound.com/event/passport-santas-nightcap-train-ride/
CATEGORIES:Passport
ATTACH;FMTTYPE=image/jpeg:https://communitylivingowensound.com/wp-content/uploads/2025/11/santa-train.jpg
END:VEVENT
BEGIN:VEVENT
DTSTART;TZID=America/Toronto:20251205T130000
DTEND;TZID=America/Toronto:20251205T200000
DTSTAMP:20260421T110911
CREATED:20251125T145318Z
LAST-MODIFIED:20251125T145318Z
UID:10003167-1764939600-1764964800@communitylivingowensound.com
SUMMARY:Passport: Caribbean Christmas Carnival
DESCRIPTION:Passport: Caribbean Christmas Carnival\nDate: Friday\, December 5 Time: 1-8pm\nCost: $95 \nRSVP by: Nov 24 \nLocation: Collingwood\, ON \n \nCelebrate the season island-style with festive Caribbean flair! Enjoy colourful costumes\, steel drum rhythms\, dancing\, and holiday treats that bring the warmth and joy of the islands right to snowy Collingwood!!
URL:https://communitylivingowensound.com/event/passport-caribbean-christmas-carnival/
CATEGORIES:Passport
ATTACH;FMTTYPE=image/jpeg:https://communitylivingowensound.com/wp-content/uploads/2025/11/christmas-carnival.jpg
END:VEVENT
END:VCALENDAR