BEGIN:VCALENDAR
VERSION:2.0
PRODID:-//Community Living Owen Sound and District - ECPv6.15.18//NONSGML v1.0//EN
CALSCALE:GREGORIAN
METHOD:PUBLISH
X-WR-CALNAME:Community Living Owen Sound and District
X-ORIGINAL-URL:https://communitylivingowensound.com
X-WR-CALDESC:Events for Community Living Owen Sound and District
REFRESH-INTERVAL;VALUE=DURATION:PT1H
X-Robots-Tag:noindex
X-PUBLISHED-TTL:PT1H
BEGIN:VTIMEZONE
TZID:America/Toronto
BEGIN:DAYLIGHT
TZOFFSETFROM:-0500
TZOFFSETTO:-0400
TZNAME:EDT
DTSTART:20230312T070000
END:DAYLIGHT
BEGIN:STANDARD
TZOFFSETFROM:-0400
TZOFFSETTO:-0500
TZNAME:EST
DTSTART:20231105T060000
END:STANDARD
BEGIN:DAYLIGHT
TZOFFSETFROM:-0500
TZOFFSETTO:-0400
TZNAME:EDT
DTSTART:20240310T070000
END:DAYLIGHT
BEGIN:STANDARD
TZOFFSETFROM:-0400
TZOFFSETTO:-0500
TZNAME:EST
DTSTART:20241103T060000
END:STANDARD
BEGIN:DAYLIGHT
TZOFFSETFROM:-0500
TZOFFSETTO:-0400
TZNAME:EDT
DTSTART:20250309T070000
END:DAYLIGHT
BEGIN:STANDARD
TZOFFSETFROM:-0400
TZOFFSETTO:-0500
TZNAME:EST
DTSTART:20251102T060000
END:STANDARD
END:VTIMEZONE
BEGIN:VEVENT
DTSTART;TZID=America/Toronto:20240411T133000
DTEND;TZID=America/Toronto:20240411T153000
DTSTAMP:20260420T165032
CREATED:20240304T153223Z
LAST-MODIFIED:20240304T153223Z
UID:10000184-1712842200-1712849400@communitylivingowensound.com
SUMMARY:Cooking Class: Chili
DESCRIPTION:Thursday April 11 2024\nCooking Class- Chili- MAIN OFFICE\, OWEN SOUND- $31 per person  \nCome learn how to make Chilli and take home the final product to enjoy!  Please bring a container.\n1:30pm – 3:30pm\nRSVP to Sierra Ellis  by  April 4th    @   sellis@comlivos.on.ca \n 
URL:https://communitylivingowensound.com/event/cooking-class-chili/
CATEGORIES:Passport
ATTACH;FMTTYPE=image/jpeg:https://communitylivingowensound.com/wp-content/uploads/2024/03/chili.jpg
END:VEVENT
BEGIN:VEVENT
DTSTART;TZID=America/Toronto:20240411T090000
DTEND;TZID=America/Toronto:20240411T113000
DTSTAMP:20260420T165032
CREATED:20240304T153429Z
LAST-MODIFIED:20240304T153429Z
UID:10000185-1712826000-1712835000@communitylivingowensound.com
SUMMARY:Breakfast Club
DESCRIPTION:Thursday April 11 2024\nBreakfast Club at Kettles Restaurant- MAIN OFFICE\, OWEN SOUND- $21 per person \nJoin us for a morning social at Kettles Restaurant.  Please bring your own spending money to purchase your breakfast meal.\n9am – 11:30am\nRSVP to Marsha Blum by  April 10th   @   mblum@comlivos.on.ca \nbrea
URL:https://communitylivingowensound.com/event/breakfast-club/
CATEGORIES:Passport
ATTACH;FMTTYPE=image/jpeg:https://communitylivingowensound.com/wp-content/uploads/2024/02/breakfast-with-friends.jpg
END:VEVENT
BEGIN:VEVENT
DTSTART;TZID=America/Toronto:20240409T170000
DTEND;TZID=America/Toronto:20240409T190000
DTSTAMP:20260420T165032
CREATED:20240304T153022Z
LAST-MODIFIED:20240304T153022Z
UID:10000183-1712682000-1712689200@communitylivingowensound.com
SUMMARY:Cooking Class: Chicken Stir Fry
DESCRIPTION:Tuesday April 9 2024\nCooking Class- Chicken Stir Fry- MAIN OFFICE\, OWEN SOUND- $30 per person  \nJoin us for a dinner class while we learn how to make chicken stir fry over rice\, then socialize while we eat dinner together!\n5pm – 7pm\nRSVP to Sierra by April 2nd  @   sellis@comlivos.on.ca
URL:https://communitylivingowensound.com/event/cooking-class-chicken-stir-fry/
CATEGORIES:Passport
ATTACH;FMTTYPE=image/jpeg:https://communitylivingowensound.com/wp-content/uploads/2024/03/chicken-stir-fry.jpg
END:VEVENT
BEGIN:VEVENT
DTSTART;TZID=America/Toronto:20240409T150000
DTEND;TZID=America/Toronto:20240409T180000
DTSTAMP:20260420T165032
CREATED:20240304T150734Z
LAST-MODIFIED:20240304T150851Z
UID:10000119-1712674800-1712685600@communitylivingowensound.com
SUMMARY:Billiards and Darts (Port Elgin)
DESCRIPTION:Tuesdays April 2\, 9\, 16\, 23\, 30 2024\nBilliards & Darts- PE LEGION\, PORT ELGIN- $ To Be Determined \nCome enjoy a few games of pool and darts at the local legion! You can attend each week\, or choose the weeks you’d like to come.\n3pm – 6pm\nRSVP to Lisa Penny @   lpenny@comlivos.on.ca
URL:https://communitylivingowensound.com/event/billiards-and-darts-port-elgin-2/2024-04-09/
CATEGORIES:Passport
ATTACH;FMTTYPE=image/jpeg:https://communitylivingowensound.com/wp-content/uploads/2024/02/billiards-and-darts.jpg
END:VEVENT
BEGIN:VEVENT
DTSTART;TZID=America/Toronto:20240409T150000
DTEND;TZID=America/Toronto:20240409T180000
DTSTAMP:20260420T165032
CREATED:20240207T202046Z
LAST-MODIFIED:20240207T202046Z
UID:10000036-1712674800-1712685600@communitylivingowensound.com
SUMMARY:Billiards and Darts (Port Elgin)
DESCRIPTION:Tuesdays March 5\, 12\, 19\, 26 2024\nBilliards & Darts- PE LEGION\, PORT ELGIN- $ To Be Determined \nCome enjoy a few games of pool and darts at the local legion! You can attend each week\, or choose the weeks you’d like to come.\n3pm – 6pm\nRSVP to Lisa Penny @   lpenny@comlivos.on.ca
URL:https://communitylivingowensound.com/event/billiards-and-darts-port-elgin/2024-04-09/
CATEGORIES:Passport
ATTACH;FMTTYPE=image/jpeg:https://communitylivingowensound.com/wp-content/uploads/2024/02/billiards-and-darts.jpg
END:VEVENT
BEGIN:VEVENT
DTSTART;TZID=America/Toronto:20240408T090000
DTEND;TZID=America/Toronto:20240408T120000
DTSTAMP:20260420T165032
CREATED:20240304T152827Z
LAST-MODIFIED:20240304T152827Z
UID:10000182-1712566800-1712577600@communitylivingowensound.com
SUMMARY:Canvas Bag Embroidery (Port Elgin)
DESCRIPTION:Monday April 8 2024\nCanvas Bag Embroidery- PE OFFICE\, PORT ELGIN- $40per person  \nJoin us for a crafty morning as we learn how to embroider a tote bag..\n9m – 12pm\nRSVP to Lisa Penny  by March 20th     @   lpenny@comlivos.on.ca
URL:https://communitylivingowensound.com/event/canvas-bag-embroidery-port-elgin/
CATEGORIES:Passport
ATTACH;FMTTYPE=image/jpeg:https://communitylivingowensound.com/wp-content/uploads/2024/03/canvas-bag-embroidery.jpg
END:VEVENT
BEGIN:VEVENT
DTSTART;TZID=America/Toronto:20240408T080000
DTEND;TZID=America/Toronto:20240408T130000
DTSTAMP:20260420T165032
CREATED:20240304T152605Z
LAST-MODIFIED:20240304T152605Z
UID:10000181-1712563200-1712581200@communitylivingowensound.com
SUMMARY:Pie Workshop (Priceville)
DESCRIPTION:Monday April 8 2024\nPie Workshop- REN HEN ARTISANALE\, PRICEVILLE- $182 per person  \nJoin us while we attend a baking class at a studio that specializes in baking pies.  You will learn how to make flakey pie crust\, and how to decorate your pie to make it look as amazing as it will taste.\n8am – 1pm\nRSVP to Jackie Santos by March 11th    @   jsantos@comlivos.on.ca
URL:https://communitylivingowensound.com/event/pie-workshop-priceville/
CATEGORIES:Passport
ATTACH;FMTTYPE=image/jpeg:https://communitylivingowensound.com/wp-content/uploads/2024/03/pie-making.jpg
END:VEVENT
BEGIN:VEVENT
DTSTART;TZID=America/Toronto:20240406T180000
DTEND;TZID=America/Toronto:20240406T230000
DTSTAMP:20260420T165032
CREATED:20240304T152355Z
LAST-MODIFIED:20240304T152355Z
UID:10000180-1712426400-1712444400@communitylivingowensound.com
SUMMARY:Live Music: Mudmen (Kincardine)
DESCRIPTION:Saturday April 6 2024\nMUDMEN- KINCARDINE LEGION\, KINCARDINE- $80 per person  \nJoin us for a night out rocking to the music of the MUDMEN.  We are leaving from the Port Elgin office.\n6pm – 11pm\nRSVP to Lisa Penny  @   lpenny@comlivos.on.ca
URL:https://communitylivingowensound.com/event/live-music-mudmen-kincardine/
CATEGORIES:Passport
ATTACH;FMTTYPE=image/jpeg:https://communitylivingowensound.com/wp-content/uploads/2024/03/live-music.jpg
END:VEVENT
BEGIN:VEVENT
DTSTART;TZID=America/Toronto:20240406T100000
DTEND;TZID=America/Toronto:20240406T150000
DTSTAMP:20260420T165032
CREATED:20240304T152159Z
LAST-MODIFIED:20240304T152159Z
UID:10000179-1712397600-1712415600@communitylivingowensound.com
SUMMARY:Maple Weekend (Meaford)
DESCRIPTION:Saturday April 6 2024\nMaple Weekend – MEAFORD MAPLES\, MEAFORD- $50 per person   \nWe will visit the sugar house and learn how they make maple syrup.  We will enjoy a walk into the bush to see how they collect the sap from the trees\, see the collection tanks\, and see how they boil the sap down into yummy syrup. There will be free tastings and lots of goodies for sale.   Space is limited.\n10am – 3pm\nRSVP to Jackie Santos by April 1st  @   jsantos@comlivos.on.ca
URL:https://communitylivingowensound.com/event/maple-weekend-meaford/
CATEGORIES:Passport
ATTACH;FMTTYPE=image/jpeg:https://communitylivingowensound.com/wp-content/uploads/2024/03/maple-syrup.jpg
END:VEVENT
BEGIN:VEVENT
DTSTART;TZID=America/Toronto:20240404T130000
DTEND;TZID=America/Toronto:20240404T160000
DTSTAMP:20260420T165032
CREATED:20240304T151416Z
LAST-MODIFIED:20240304T151416Z
UID:10000177-1712235600-1712246400@communitylivingowensound.com
SUMMARY:Spring Hike
DESCRIPTION:Thursday April 4 2024\nSpring Hike – MAIN OFFICE\, OWEN SOUND- $36 per person  \nJoin us for a spring hike on a local trail to get some fresh air and see how many signs of spring are showing.  Trail to be determined based on trail conditions and weather.\n1pm – 4pm \nRSVP to Sierra Ellis by March 25th  @  sellis@comlivos.on.ca
URL:https://communitylivingowensound.com/event/spring-hike/
CATEGORIES:Passport
ATTACH;FMTTYPE=image/jpeg:https://communitylivingowensound.com/wp-content/uploads/2024/03/spring-hike.jpg
END:VEVENT
BEGIN:VEVENT
DTSTART;TZID=America/Toronto:20240404T130000
DTEND;TZID=America/Toronto:20240404T153000
DTSTAMP:20260420T165032
CREATED:20240304T151630Z
LAST-MODIFIED:20240304T151630Z
UID:10000178-1712235600-1712244600@communitylivingowensound.com
SUMMARY:Harrison Park Hike
DESCRIPTION: Thursday April 4 2024\nHarrison Park Hike- MAIN OFFICE\, OWEN SOUND- $20 per person  \nSpring is in the air!!  Come on out for a nice hike on the Harrison Park Trail System and enjoy a hot chocolate and treat after at the Harrison Park Inn.  Please bring your own spending money.\n1pm – 3:30pm\nRSVP to Jackie Santos by March 1st  @  jsantos@comlivos.on.ca
URL:https://communitylivingowensound.com/event/harrison-park-hike/
CATEGORIES:Passport
ATTACH;FMTTYPE=image/jpeg:https://communitylivingowensound.com/wp-content/uploads/2024/03/harrison-park.jpg
END:VEVENT
BEGIN:VEVENT
DTSTART;TZID=America/Toronto:20240403T130000
DTEND;TZID=America/Toronto:20240403T140000
DTSTAMP:20260420T165032
CREATED:20240304T151223Z
LAST-MODIFIED:20240304T151223Z
UID:10000176-1712149200-1712152800@communitylivingowensound.com
SUMMARY:Knitting Class (Knit Your Own Dishcloth)
DESCRIPTION:Wednesday April 3 2024\nKnitting Class- Dishcloths- MAIN OFFICE\, OWEN SOUND- $30 per person  \nCome join our knitting group and learn how to knit your own dishcloths!\n1pm – 2pm\nRSVP to Jackie Santos by March 19th  @   jsantos@comlivos.on.ca
URL:https://communitylivingowensound.com/event/knitting-class-knit-your-own-dishcloth/
CATEGORIES:Passport
ATTACH;FMTTYPE=image/jpeg:https://communitylivingowensound.com/wp-content/uploads/2024/03/knitting.jpg
END:VEVENT
BEGIN:VEVENT
DTSTART;TZID=America/Toronto:20240402T150000
DTEND;TZID=America/Toronto:20240402T180000
DTSTAMP:20260420T165032
CREATED:20240304T150734Z
LAST-MODIFIED:20240304T150851Z
UID:10000118-1712070000-1712080800@communitylivingowensound.com
SUMMARY:Billiards and Darts (Port Elgin)
DESCRIPTION:Tuesdays April 2\, 9\, 16\, 23\, 30 2024\nBilliards & Darts- PE LEGION\, PORT ELGIN- $ To Be Determined \nCome enjoy a few games of pool and darts at the local legion! You can attend each week\, or choose the weeks you’d like to come.\n3pm – 6pm\nRSVP to Lisa Penny @   lpenny@comlivos.on.ca
URL:https://communitylivingowensound.com/event/billiards-and-darts-port-elgin-2/2024-04-02/2/
CATEGORIES:Passport
ATTACH;FMTTYPE=image/jpeg:https://communitylivingowensound.com/wp-content/uploads/2024/02/billiards-and-darts.jpg
END:VEVENT
BEGIN:VEVENT
DTSTART;TZID=America/Toronto:20240402T150000
DTEND;TZID=America/Toronto:20240402T180000
DTSTAMP:20260420T165032
CREATED:20240207T202046Z
LAST-MODIFIED:20240207T202046Z
UID:10000035-1712070000-1712080800@communitylivingowensound.com
SUMMARY:Billiards and Darts (Port Elgin)
DESCRIPTION:Tuesdays March 5\, 12\, 19\, 26 2024\nBilliards & Darts- PE LEGION\, PORT ELGIN- $ To Be Determined \nCome enjoy a few games of pool and darts at the local legion! You can attend each week\, or choose the weeks you’d like to come.\n3pm – 6pm\nRSVP to Lisa Penny @   lpenny@comlivos.on.ca
URL:https://communitylivingowensound.com/event/billiards-and-darts-port-elgin/2024-04-02/
CATEGORIES:Passport
ATTACH;FMTTYPE=image/jpeg:https://communitylivingowensound.com/wp-content/uploads/2024/02/billiards-and-darts.jpg
END:VEVENT
BEGIN:VEVENT
DTSTART;TZID=America/Toronto:20240402T080000
DTEND;TZID=America/Toronto:20240402T170000
DTSTAMP:20260420T165032
CREATED:20240304T150734Z
LAST-MODIFIED:20240304T150851Z
UID:10000175-1712044800-1712077200@communitylivingowensound.com
SUMMARY:Billiards and Darts (Port Elgin)
DESCRIPTION:Tuesdays April 2\, 9\, 16\, 23\, 30 2024\nBilliards & Darts- PE LEGION\, PORT ELGIN- $ To Be Determined \nCome enjoy a few games of pool and darts at the local legion! You can attend each week\, or choose the weeks you’d like to come.\n3pm – 6pm\nRSVP to Lisa Penny @   lpenny@comlivos.on.ca
URL:https://communitylivingowensound.com/event/billiards-and-darts-port-elgin-2/2024-04-02/1/
CATEGORIES:Passport
ATTACH;FMTTYPE=image/jpeg:https://communitylivingowensound.com/wp-content/uploads/2024/02/billiards-and-darts.jpg
END:VEVENT
BEGIN:VEVENT
DTSTART;TZID=America/Toronto:20240330T150000
DTEND;TZID=America/Toronto:20240331T010000
DTSTAMP:20260420T165032
CREATED:20240208T162553Z
LAST-MODIFIED:20240208T162553Z
UID:10000117-1711810800-1711846800@communitylivingowensound.com
SUMMARY:AEW Collision Wrestling (London)
DESCRIPTION:Saturday March 30 2024\nAEW Collision Wrestling- LONDON- $250 per person  \nEnjoy an evening of fun and excitement watching amazing wrestling showdowns!!\n3pm – 1am\nRSVP to Jackie Santos ASAP   @     jsantos@comlivos.on.ca
URL:https://communitylivingowensound.com/event/aew-collision-wrestling-london/
CATEGORIES:Passport
ATTACH;FMTTYPE=image/jpeg:https://communitylivingowensound.com/wp-content/uploads/2024/02/wrestling.jpg
END:VEVENT
BEGIN:VEVENT
DTSTART;TZID=America/Toronto:20240328T170000
DTEND;TZID=America/Toronto:20240328T190000
DTSTAMP:20260420T165032
CREATED:20240208T162206Z
LAST-MODIFIED:20240208T162206Z
UID:10000115-1711645200-1711652400@communitylivingowensound.com
SUMMARY:Glow in the Dark Mini Putt (Port Elgin)
DESCRIPTION:Thursday March 28 2024\nGlow in the Dark Mini Putt- PE BOWLING ALLEY\, PORT ELGIN- $TBD  \nEnjoy a fun night at the bowling alley playing a familiar game on mini putt\, but the DARK!\n5pm – 7pm\nRSVP to Lisa Penny March 1st  @   lpenny@comlivos.on.ca
URL:https://communitylivingowensound.com/event/glow-in-the-dark-mini-putt-port-elgin/
CATEGORIES:Passport
ATTACH;FMTTYPE=image/jpeg:https://communitylivingowensound.com/wp-content/uploads/2024/02/mini-putt.jpg
END:VEVENT
BEGIN:VEVENT
DTSTART;TZID=America/Toronto:20240328T140000
DTEND;TZID=America/Toronto:20240328T153000
DTSTAMP:20260420T165032
CREATED:20240208T162356Z
LAST-MODIFIED:20240208T163648Z
UID:10000116-1711634400-1711639800@communitylivingowensound.com
SUMMARY:Cooking Class: Make and Take Easter Dinner (Owen Sound)
DESCRIPTION:Thursday March 28 2024\nMake and Take Easter Dinner- MAIN OFFICE\, OWEN SOUND- $20 per person  \nLearn how to make a traditional ham dinner and take a plate home to enjoy on the Easter Weekend.\n2pm – 3:30pm\nRSVP to Jackie Santos by March 15th  @     jsantos@comlivos.on.ca
URL:https://communitylivingowensound.com/event/cooking-class-make-and-take-easter-dinner-owen-sound/
CATEGORIES:Passport
ATTACH;FMTTYPE=image/jpeg:https://communitylivingowensound.com/wp-content/uploads/2024/02/easter-dinner.jpg
END:VEVENT
BEGIN:VEVENT
DTSTART;TZID=America/Toronto:20240328T093000
DTEND;TZID=America/Toronto:20240328T183000
DTSTAMP:20260420T165032
CREATED:20240208T161814Z
LAST-MODIFIED:20240208T161814Z
UID:10000114-1711618200-1711650600@communitylivingowensound.com
SUMMARY:Ontario Science Centre (Toronto)
DESCRIPTION:Thursday March 28 2024\nScience Centre- TORONTO- $120 per person  \nThis will be fun day exploring the cool things inside the Ontario Science Centre!!!\n9:30am – 6:30pm\nRSVP to Theresa St. George ASAP  @     tstgeorgecomlivos.on.ca
URL:https://communitylivingowensound.com/event/ontario-science-centre-toronto/
CATEGORIES:Passport
ATTACH;FMTTYPE=image/jpeg:https://communitylivingowensound.com/wp-content/uploads/2024/02/science-centre.jpg
END:VEVENT
BEGIN:VEVENT
DTSTART;TZID=America/Toronto:20240328T090000
DTEND;TZID=America/Toronto:20240328T110000
DTSTAMP:20260420T165032
CREATED:20240208T161625Z
LAST-MODIFIED:20240208T161625Z
UID:10000113-1711616400-1711623600@communitylivingowensound.com
SUMMARY:Grandma Lambs (Meaford)
DESCRIPTION:Thursday March 28 2024\nGrandma Lambs- MEAFORD- $24 person  \nEnjoy visiting the sweet and apple shop of Grandma Lambs\, and a stop at Tim Hortons! Bring spending money\n9am – 11am\nRSVP to Marsha Blum by March 25th  @ mblum@comlivos.on.ca
URL:https://communitylivingowensound.com/event/grandma-lambs-meaford/
CATEGORIES:Passport
ATTACH;FMTTYPE=image/jpeg:https://communitylivingowensound.com/wp-content/uploads/2024/02/grandma-lambs.jpg
END:VEVENT
BEGIN:VEVENT
DTSTART;TZID=America/Toronto:20240326T150000
DTEND;TZID=America/Toronto:20240326T180000
DTSTAMP:20260420T165032
CREATED:20240207T202046Z
LAST-MODIFIED:20240207T202046Z
UID:10000034-1711465200-1711476000@communitylivingowensound.com
SUMMARY:Billiards and Darts (Port Elgin)
DESCRIPTION:Tuesdays March 5\, 12\, 19\, 26 2024\nBilliards & Darts- PE LEGION\, PORT ELGIN- $ To Be Determined \nCome enjoy a few games of pool and darts at the local legion! You can attend each week\, or choose the weeks you’d like to come.\n3pm – 6pm\nRSVP to Lisa Penny @   lpenny@comlivos.on.ca
URL:https://communitylivingowensound.com/event/billiards-and-darts-port-elgin/2024-03-26/
CATEGORIES:Passport
ATTACH;FMTTYPE=image/jpeg:https://communitylivingowensound.com/wp-content/uploads/2024/02/billiards-and-darts.jpg
END:VEVENT
BEGIN:VEVENT
DTSTART;TZID=America/Toronto:20240326T093000
DTEND;TZID=America/Toronto:20240326T113000
DTSTAMP:20260420T165032
CREATED:20240208T161324Z
LAST-MODIFIED:20240208T161324Z
UID:10000112-1711445400-1711452600@communitylivingowensound.com
SUMMARY:Cooking Class: Shepherd's Pie
DESCRIPTION:Tuesday March 26 2024\nCooking Class- Shepherd’s Pie- MAIN OFFICE\, OWEN SOUND- $32 per person  \nSpend the morning making scrumptious Shepherd’s pie.  Bring your own container.\n9:30am – 11:30am\nRSVP to Sierra Ellis by March 19th   @  sellis@comlivos.on.ca
URL:https://communitylivingowensound.com/event/cooking-class-shepherds-pie/
CATEGORIES:Passport
ATTACH;FMTTYPE=image/jpeg:https://communitylivingowensound.com/wp-content/uploads/2024/02/sheperds-pie.jpg
END:VEVENT
BEGIN:VEVENT
DTSTART;TZID=America/Toronto:20240325T173000
DTEND;TZID=America/Toronto:20240325T203000
DTSTAMP:20260420T165032
CREATED:20240208T160533Z
LAST-MODIFIED:20240208T160533Z
UID:10000110-1711387800-1711398600@communitylivingowensound.com
SUMMARY:Fused Glass Bird Suncatcher
DESCRIPTION:Monday March 25 2024\nFused Glass Bird Suncatcher- GB ARTS\, OWEN SOUND- $132 per person  \nYou will learn how to lay out\, cut\, grind and assemble colourful glass pieces into a bird shape. No experience necessary.\n5:30pm – 8:30pm\nRSVP to Jackie Santos ASAP @   jsantos@comlivos.on.ca \n \nImage provided by GB Arts
URL:https://communitylivingowensound.com/event/fused-glass-bird-suncatcher/
CATEGORIES:Passport
ATTACH;FMTTYPE=image/jpeg:https://communitylivingowensound.com/wp-content/uploads/2024/02/fused-glass-bird.jpg
END:VEVENT
BEGIN:VEVENT
DTSTART;TZID=America/Toronto:20240325T093000
DTEND;TZID=America/Toronto:20240325T173000
DTSTAMP:20260420T165032
CREATED:20240208T160738Z
LAST-MODIFIED:20240208T160738Z
UID:10000111-1711359000-1711387800@communitylivingowensound.com
SUMMARY:Trampoline and Laser Tag (Barrie)
DESCRIPTION:Monday March 25 2024\nTrampoline and Laser Tag- X PLAY\, BARRIE- $140 per person  \nThis will be a day jammed packed with fun on the trampolines and the laser tag play grounds!!\n9:30am – 5:30pm\nRSVP to Theresa St. George @  tstgeorge@comlivos.on.ca
URL:https://communitylivingowensound.com/event/trampoline-and-laser-tag-barrie/
CATEGORIES:Passport
ATTACH;FMTTYPE=image/jpeg:https://communitylivingowensound.com/wp-content/uploads/2024/02/tramp-laser-tag.jpg
END:VEVENT
BEGIN:VEVENT
DTSTART;TZID=America/Toronto:20240323T183000
DTEND;TZID=America/Toronto:20240323T223000
DTSTAMP:20260420T165032
CREATED:20240208T160343Z
LAST-MODIFIED:20240208T160343Z
UID:10000109-1711218600-1711233000@communitylivingowensound.com
SUMMARY:The Traveling Milburys
DESCRIPTION:Saturday March 23 2024\nThe Travelling Milburys- MEAFORD HALL\, MEAFORD- $111per person  \nThis will be a night of rock n roll fun!\n6:30pm – 10:30pm\nRSVP to Jackie Santos ASAP @ jsantos@comlivos.on.ca
URL:https://communitylivingowensound.com/event/the-traveling-milburys/
CATEGORIES:Passport
ATTACH;FMTTYPE=image/jpeg:https://communitylivingowensound.com/wp-content/uploads/2024/02/traveling-milburys.jpg
END:VEVENT
BEGIN:VEVENT
DTSTART;TZID=America/Toronto:20240322T100000
DTEND;TZID=America/Toronto:20240322T150000
DTSTAMP:20260420T165032
CREATED:20240208T152522Z
LAST-MODIFIED:20240208T152522Z
UID:10000108-1711101600-1711119600@communitylivingowensound.com
SUMMARY:Go Karting at K1 Speed
DESCRIPTION:Friday March 22 2024\nGo Karts- K1 SPEED\, MISSISSAGA- $150 per person  \nEnjoy a day cruising!! Space is limited.\n10am – 3pm\nRSVP to Lisa Penny by March 6th  @  lpenny@comlivos.on.ca
URL:https://communitylivingowensound.com/event/go-karting-at-k1-speed/
CATEGORIES:Passport
ATTACH;FMTTYPE=image/jpeg:https://communitylivingowensound.com/wp-content/uploads/2024/02/go-karts-1.jpg
END:VEVENT
BEGIN:VEVENT
DTSTART;TZID=America/Toronto:20240321T133000
DTEND;TZID=America/Toronto:20240321T153000
DTSTAMP:20260420T165032
CREATED:20240208T151721Z
LAST-MODIFIED:20240208T151721Z
UID:10000106-1711027800-1711035000@communitylivingowensound.com
SUMMARY:DIY Bath Bombs
DESCRIPTION:Thursday March 21 2024\nDIY Bath Bombs- MAIN OFFICE\, OWEN SOUND- $51 per person  \nThis will be a fun afternoon of learning how to make bath bombs and shower melts with natural ingredients!\n1:30pm – 3:30pm\nRSVP to Sierra Ellis by March 7th  @  sellis@comlivos.on.ca
URL:https://communitylivingowensound.com/event/diy-bath-bombs/
CATEGORIES:Passport
ATTACH;FMTTYPE=image/jpeg:https://communitylivingowensound.com/wp-content/uploads/2024/02/bath-bomb.jpg
END:VEVENT
BEGIN:VEVENT
DTSTART;TZID=America/Toronto:20240321T100000
DTEND;TZID=America/Toronto:20240321T120000
DTSTAMP:20260420T165032
CREATED:20240208T152019Z
LAST-MODIFIED:20240208T152019Z
UID:10000107-1711015200-1711022400@communitylivingowensound.com
SUMMARY:Friendship Bracelets (Port Elgin)
DESCRIPTION:Thursday March 21 2024\nFriendship Bracelets- PE OFFICE\, PORT ELGIN- $TBD  per person  \nJoin us to learn how to make your own friendship bracelets!\n10am – 12pm\nRSVP to Lisa Penny by February 29th @  lpenny@comlivos.on.ca
URL:https://communitylivingowensound.com/event/friendship-bracelets-port-elgin/
CATEGORIES:Passport
ATTACH;FMTTYPE=image/jpeg:https://communitylivingowensound.com/wp-content/uploads/2024/02/bracelets.jpg
END:VEVENT
BEGIN:VEVENT
DTSTART;TZID=America/Toronto:20240320T130000
DTEND;TZID=America/Toronto:20240320T140000
DTSTAMP:20260420T165032
CREATED:20240208T151318Z
LAST-MODIFIED:20240208T151318Z
UID:10000104-1710939600-1710943200@communitylivingowensound.com
SUMMARY:Paint your own Moon Light
DESCRIPTION:Wednesday March 20 2024\nPaint your own Moon Light- MAIN OFFICE\, OWEN SOUND- $36 per person  \nPaint your own moon night light!!\n1pm – 2pm\nRSVP to Jackie Santos by March 1st  @  jsantos@comlivos.on.ca \n \nImage via Amazon.ca
URL:https://communitylivingowensound.com/event/paint-your-own-moon-light/
CATEGORIES:Passport
ATTACH;FMTTYPE=image/jpeg:https://communitylivingowensound.com/wp-content/uploads/2024/02/moonlight.jpg
END:VEVENT
BEGIN:VEVENT
DTSTART;VALUE=DATE:20240320
DTEND;VALUE=DATE:20240321
DTSTAMP:20260420T165032
CREATED:20240208T151549Z
LAST-MODIFIED:20240208T151549Z
UID:10000105-1710892800-1710979199@communitylivingowensound.com
SUMMARY:Movie: Elio at the Cineplex
DESCRIPTION:Wednesday March 20 2024\nElio at the Cineplex- CINEPLEX\, OWEN SOUND- $40 per person  \nJoin us to watch the new Disney movie at the movie theater in Owen Sound.  Elio is the underdog that joins all the leaders from around the universe to represent Earth!  The evening showtime will be confirmed the week of the event.\nTBD\nRSVP to Sierra Ellis by March 13th  @  sellis@comlivos.on.ca
URL:https://communitylivingowensound.com/event/movie-elio-at-the-cineplex/
CATEGORIES:Passport
ATTACH;FMTTYPE=image/jpeg:https://communitylivingowensound.com/wp-content/uploads/2024/02/movie-night-Elio.jpg
END:VEVENT
END:VCALENDAR