BEGIN:VCALENDAR
VERSION:2.0
PRODID:-//Community Living Owen Sound and District - ECPv6.15.18//NONSGML v1.0//EN
CALSCALE:GREGORIAN
METHOD:PUBLISH
X-ORIGINAL-URL:https://communitylivingowensound.com
X-WR-CALDESC:Events for Community Living Owen Sound and District
REFRESH-INTERVAL;VALUE=DURATION:PT1H
X-Robots-Tag:noindex
X-PUBLISHED-TTL:PT1H
BEGIN:VTIMEZONE
TZID:America/Toronto
BEGIN:DAYLIGHT
TZOFFSETFROM:-0500
TZOFFSETTO:-0400
TZNAME:EDT
DTSTART:20240310T070000
END:DAYLIGHT
BEGIN:STANDARD
TZOFFSETFROM:-0400
TZOFFSETTO:-0500
TZNAME:EST
DTSTART:20241103T060000
END:STANDARD
BEGIN:DAYLIGHT
TZOFFSETFROM:-0500
TZOFFSETTO:-0400
TZNAME:EDT
DTSTART:20250309T070000
END:DAYLIGHT
BEGIN:STANDARD
TZOFFSETFROM:-0400
TZOFFSETTO:-0500
TZNAME:EST
DTSTART:20251102T060000
END:STANDARD
BEGIN:DAYLIGHT
TZOFFSETFROM:-0500
TZOFFSETTO:-0400
TZNAME:EDT
DTSTART:20260308T070000
END:DAYLIGHT
BEGIN:STANDARD
TZOFFSETFROM:-0400
TZOFFSETTO:-0500
TZNAME:EST
DTSTART:20261101T060000
END:STANDARD
END:VTIMEZONE
BEGIN:VEVENT
DTSTART;TZID=America/Toronto:20251126T133000
DTEND;TZID=America/Toronto:20251126T150000
DTSTAMP:20260419T201421
CREATED:20250808T151037Z
LAST-MODIFIED:20250808T151037Z
UID:10002906-1764163800-1764169200@communitylivingowensound.com
SUMMARY:BINGO! (OS)
DESCRIPTION:PM 1:30-3pm Bingo – It’s a classic for a reason! Join us at the Link for some B-I-N-G-O!
URL:https://communitylivingowensound.com/event/bingo-os-3/2025-11-26/
CATEGORIES:Community Participation
ATTACH;FMTTYPE=image/jpeg:https://communitylivingowensound.com/wp-content/uploads/2024/10/bingo.jpg
END:VEVENT
BEGIN:VEVENT
DTSTART;TZID=America/Toronto:20251126T140000
DTEND;TZID=America/Toronto:20251126T160000
DTSTAMP:20260419T201421
CREATED:20250808T180410Z
LAST-MODIFIED:20250808T180410Z
UID:10003105-1764165600-1764172800@communitylivingowensound.com
SUMMARY:Billiards (PE)
DESCRIPTION:Come shoot a game of pool at Sunset Lanes. Note: You can sign up for both Bowling AND Billiards!
URL:https://communitylivingowensound.com/event/billiards-pe/2025-11-26/
CATEGORIES:Community Participation
ATTACH;FMTTYPE=image/jpeg:https://communitylivingowensound.com/wp-content/uploads/2024/07/billiards.jpg
END:VEVENT
BEGIN:VEVENT
DTSTART;TZID=America/Toronto:20251126T143000
DTEND;TZID=America/Toronto:20251126T163000
DTSTAMP:20260419T201421
CREATED:20250808T151339Z
LAST-MODIFIED:20250808T151339Z
UID:10002919-1764167400-1764174600@communitylivingowensound.com
SUMMARY:Leisure Pool at the YMCA (OS)
DESCRIPTION:  \nPM 2:45-430pm Leisure pool at the YMCA: This is the time to enjoy some leisure time in the warm pool at the YMCA and just kick back and relax! (must have a YMCA pass).
URL:https://communitylivingowensound.com/event/leisure-pool-at-the-ymca-os/2025-11-26/
CATEGORIES:Community Participation
ATTACH;FMTTYPE=image/jpeg:https://communitylivingowensound.com/wp-content/uploads/2025/03/pool-swimming.jpg
END:VEVENT
BEGIN:VEVENT
DTSTART;TZID=America/Toronto:20251126T160000
DTEND;TZID=America/Toronto:20251126T190000
DTSTAMP:20260419T201421
CREATED:20250808T160707Z
LAST-MODIFIED:20250808T160707Z
UID:10003023-1764172800-1764183600@communitylivingowensound.com
SUMMARY:Movie Night (OS)
DESCRIPTION:Movie night at the LINK
URL:https://communitylivingowensound.com/event/movie-night-os/2025-11-26/
CATEGORIES:Community Participation
ATTACH;FMTTYPE=image/jpeg:https://communitylivingowensound.com/wp-content/uploads/2024/05/Movie-Night.jpg
END:VEVENT
BEGIN:VEVENT
DTSTART;TZID=America/Toronto:20251127T090000
DTEND;TZID=America/Toronto:20251127T120000
DTSTAMP:20260419T201421
CREATED:20250808T154041Z
LAST-MODIFIED:20250808T154041Z
UID:10002932-1764234000-1764244800@communitylivingowensound.com
SUMMARY:Selfcare & Wellness (OS)
DESCRIPTION:AM 9-12pm Selfcare & Wellness: Thursday mornings are all about focusing on YOU!  Let’s do some fancy nails and hairstyles to start your day with and discuss self-care and personal wellness.
URL:https://communitylivingowensound.com/event/selfcare-wellness-os/2025-11-27/
CATEGORIES:Community Participation
ATTACH;FMTTYPE=image/png:https://communitylivingowensound.com/wp-content/uploads/2025/05/manicure.png
END:VEVENT
BEGIN:VEVENT
DTSTART;TZID=America/Toronto:20251127T090000
DTEND;TZID=America/Toronto:20251127T120000
DTSTAMP:20260419T201421
CREATED:20250808T154632Z
LAST-MODIFIED:20250808T154632Z
UID:10002958-1764234000-1764244800@communitylivingowensound.com
SUMMARY:Markets & More (OS)
DESCRIPTION:AM 9-12pm Markets & More: We will visit a variety of different markets and thrift shops in our local communities! Bring your own money each week.
URL:https://communitylivingowensound.com/event/markets-more-os/2025-11-27/
CATEGORIES:Community Participation
ATTACH;FMTTYPE=image/jpeg:https://communitylivingowensound.com/wp-content/uploads/2024/04/keady-market.jpg
END:VEVENT
BEGIN:VEVENT
DTSTART;TZID=America/Toronto:20251127T090000
DTEND;TZID=America/Toronto:20251127T120000
DTSTAMP:20260419T201421
CREATED:20250808T155019Z
LAST-MODIFIED:20250808T180531Z
UID:10002971-1764234000-1764244800@communitylivingowensound.com
SUMMARY:Fall Waterfalls (OS & PE)
DESCRIPTION:AM 9-12pm Fall Waterfalls: Join our Port Elgin friends to hike under the beautiful changing leaves. We will be hiking to different waterfalls in the Grey-Bruce area.
URL:https://communitylivingowensound.com/event/fall-waterfalls-os/2025-11-27/
CATEGORIES:Community Participation
ATTACH;FMTTYPE=image/jpeg:https://communitylivingowensound.com/wp-content/uploads/2025/08/fall-waterfalls.jpg
END:VEVENT
BEGIN:VEVENT
DTSTART;TZID=America/Toronto:20251127T090000
DTEND;TZID=America/Toronto:20251127T120000
DTSTAMP:20260419T201421
CREATED:20250808T155152Z
LAST-MODIFIED:20250808T155152Z
UID:10002984-1764234000-1764244800@communitylivingowensound.com
SUMMARY:Indoor Sports (OS)
DESCRIPTION:AM 9-12pm Indoor Sports: Lets’ play a variety of different indoor sports and get our bodies moving!
URL:https://communitylivingowensound.com/event/indoor-sports-os/2025-11-27/
CATEGORIES:Community Participation
ATTACH;FMTTYPE=image/png:https://communitylivingowensound.com/wp-content/uploads/2025/05/basketball.png
END:VEVENT
BEGIN:VEVENT
DTSTART;TZID=America/Toronto:20251127T100000
DTEND;TZID=America/Toronto:20251127T120000
DTSTAMP:20260419T201421
CREATED:20250808T154501Z
LAST-MODIFIED:20250808T154501Z
UID:10002945-1764237600-1764244800@communitylivingowensound.com
SUMMARY:Lunch Club (OS)
DESCRIPTION:AM 10-12pm: Lunch Club: Come to The Link on Thursday mornings to help prepare and cook your own lunch for the day!
URL:https://communitylivingowensound.com/event/lunch-club-os-2/2025-11-27/
CATEGORIES:Community Participation
ATTACH;FMTTYPE=image/png:https://communitylivingowensound.com/wp-content/uploads/2025/05/lunch-club.png
END:VEVENT
BEGIN:VEVENT
DTSTART;TZID=America/Toronto:20251127T120000
DTEND;TZID=America/Toronto:20251127T130000
DTSTAMP:20260419T201421
CREATED:20250808T155551Z
LAST-MODIFIED:20250808T155551Z
UID:10003011-1764244800-1764248400@communitylivingowensound.com
SUMMARY:Skating at the Bayshore (OS)
DESCRIPTION:PM 12-1pm: Skating at The Bayshore: Spend some time ice skating to music at The Bayshore.  You must know how to skate and have your own skates.
URL:https://communitylivingowensound.com/event/skating-at-the-bayshore-os/2025-11-27/
CATEGORIES:Community Participation
ATTACH;FMTTYPE=image/jpeg:https://communitylivingowensound.com/wp-content/uploads/2025/08/skating.jpg
END:VEVENT
BEGIN:VEVENT
DTSTART;TZID=America/Toronto:20251127T120000
DTEND;TZID=America/Toronto:20251127T180000
DTSTAMP:20260419T201421
CREATED:20251023T181557Z
LAST-MODIFIED:20251023T181557Z
UID:10003161-1764244800-1764266400@communitylivingowensound.com
SUMMARY:Scavenger Hunt
DESCRIPTION:Scavenger Hunt\n  \nDate: Thursday\, November 27 Time: 12-6pm\nCost: $47 \nRSVP by: November 13 Location: Owen Sound \nMeeting Location: Main Office\, OS \n \nBundle up and get ready for a fun-filled scavenger hunt adventure\, where you’ll explore the outdoors in search of clues and surprises! After the hunt\, we’ll warm up together with a cozy cup of hot chocolate – a perfect way to celebrate teamwork and the crisp fall air.
URL:https://communitylivingowensound.com/event/scavenger-hunt/
CATEGORIES:Passport
ATTACH;FMTTYPE=image/jpeg:https://communitylivingowensound.com/wp-content/uploads/2025/10/scavenger-hunt.jpg
END:VEVENT
BEGIN:VEVENT
DTSTART;TZID=America/Toronto:20251127T130000
DTEND;TZID=America/Toronto:20251127T150000
DTSTAMP:20260419T201421
CREATED:20250808T180911Z
LAST-MODIFIED:20250808T180911Z
UID:10003118-1764248400-1764255600@communitylivingowensound.com
SUMMARY:Muffins & More (PE)
DESCRIPTION:
URL:https://communitylivingowensound.com/event/muffins-more-pe/2025-11-27/
CATEGORIES:Community Participation
ATTACH;FMTTYPE=image/jpeg:https://communitylivingowensound.com/wp-content/uploads/2024/07/apple-cinn-muffins.jpg
END:VEVENT
BEGIN:VEVENT
DTSTART;TZID=America/Toronto:20251127T133000
DTEND;TZID=America/Toronto:20251127T153000
DTSTAMP:20260419T201421
CREATED:20250808T155422Z
LAST-MODIFIED:20250808T155422Z
UID:10002997-1764250200-1764257400@communitylivingowensound.com
SUMMARY:Shuffleboard (OS)
DESCRIPTION:PM 1:30-3:30pm Shuffleboard: Do you love Shuffleboard? Come to the Legion and have some fun playing with friends!
URL:https://communitylivingowensound.com/event/shuffleboard-os/2025-11-27/
CATEGORIES:Community Participation
ATTACH;FMTTYPE=image/jpeg:https://communitylivingowensound.com/wp-content/uploads/2025/08/shuffleboard.jpg
END:VEVENT
BEGIN:VEVENT
DTSTART;TZID=America/Toronto:20251127T140000
DTEND;TZID=America/Toronto:20251127T160000
DTSTAMP:20260419T201421
CREATED:20250808T181120Z
LAST-MODIFIED:20250808T181120Z
UID:10003131-1764252000-1764259200@communitylivingowensound.com
SUMMARY:rafts & Community Connections (PE)
DESCRIPTION:Crafts & Community Connections – Come on out and have some fun\, completing autumn crafts and connecting with our community.
URL:https://communitylivingowensound.com/event/rafts-community-connections-pe/2025-11-27/
CATEGORIES:Community Participation
ATTACH;FMTTYPE=image/jpeg:https://communitylivingowensound.com/wp-content/uploads/2025/04/tie-blanket.jpg
END:VEVENT
BEGIN:VEVENT
DTSTART;TZID=America/Toronto:20251128T090000
DTEND;TZID=America/Toronto:20251128T180000
DTSTAMP:20260419T201421
CREATED:20251023T181655Z
LAST-MODIFIED:20251023T181655Z
UID:10003162-1764320400-1764352800@communitylivingowensound.com
SUMMARY:Boat Cruise Toronto
DESCRIPTION:Boat Cruise Toronto\nDate: Friday\, November 28 Time: 9am – 6pm\nCost: $185 \nRSVP by: October 24 Location: Toronto \nMeeting Location: Main Office\, OS \nSet sail on a scenic boat cruise through Toronto’s stunning harbour\, where you’ll enjoy breathtaking skyline views\, fresh air\, and a relaxing ride on the water. It’s the perfect way to unwind\, take photos\, and experience the city from a whole new perspective!
URL:https://communitylivingowensound.com/event/boat-cruise-toronto/
CATEGORIES:Passport
ATTACH;FMTTYPE=image/jpeg:https://communitylivingowensound.com/wp-content/uploads/2025/10/toronto-boat-cruise.jpg
END:VEVENT
BEGIN:VEVENT
DTSTART;TZID=America/Toronto:20251128T160000
DTEND;TZID=America/Toronto:20251128T233000
DTSTAMP:20260419T201421
CREATED:20251023T181803Z
LAST-MODIFIED:20251023T181803Z
UID:10003163-1764345600-1764372600@communitylivingowensound.com
SUMMARY:Playdium Brampton
DESCRIPTION:Playdium Brampton\n  \nDate: Friday\, November 28 Time: 4pm-12am\nCost: $225 \nRSVP by: November 17 Location: Brampton\, ON \nMeeting Location: Main Office\, OS \n \nGet ready for an action-packed day at Playdium Brampton\, where you’ll find arcade games\, virtual reality\, mini golf\, go-karts\, and more all under one roof! Whether you’re racing\, gaming\, or just grabbing a snack\, it’s the perfect place to let loose and have fun with friends.
URL:https://communitylivingowensound.com/event/playdium-brampton/
CATEGORIES:Passport
ATTACH;FMTTYPE=image/jpeg:https://communitylivingowensound.com/wp-content/uploads/2025/08/arcade.jpg
END:VEVENT
BEGIN:VEVENT
DTSTART;TZID=America/Toronto:20251130T190000
DTEND;TZID=America/Toronto:20251130T210000
DTSTAMP:20260419T201421
CREATED:20250808T162341Z
LAST-MODIFIED:20250808T162341Z
UID:10003031-1764529200-1764536400@communitylivingowensound.com
SUMMARY:Attack Game (OS)
DESCRIPTION:
URL:https://communitylivingowensound.com/event/attack-game-os/2025-11-30/
CATEGORIES:Community Participation
ATTACH;FMTTYPE=image/jpeg:https://communitylivingowensound.com/wp-content/uploads/2024/02/Owen-Sound-attack.jpg
END:VEVENT
BEGIN:VEVENT
DTSTART;TZID=America/Toronto:20251201T090000
DTEND;TZID=America/Toronto:20251201T120000
DTSTAMP:20260419T201421
CREATED:20251201T155230Z
LAST-MODIFIED:20251201T155504Z
UID:10003180-1764579600-1764590400@communitylivingowensound.com
SUMMARY:CP Creative Writing
DESCRIPTION:AM 9-12pm: Creative Writing: Writing with others in an atmosphere of respect and acceptance; participants discover the power of their own authentic voices and the value of their stories. Cost: $0
URL:https://communitylivingowensound.com/event/cp-creative-writing/2025-12-01/
CATEGORIES:Community Participation
ATTACH;FMTTYPE=image/jpeg:https://communitylivingowensound.com/wp-content/uploads/2025/12/creative-writing.jpg
END:VEVENT
BEGIN:VEVENT
DTSTART;TZID=America/Toronto:20251201T090000
DTEND;TZID=America/Toronto:20251201T120000
DTSTAMP:20260419T201421
CREATED:20251201T155403Z
LAST-MODIFIED:20251201T155403Z
UID:10003244-1764579600-1764590400@communitylivingowensound.com
SUMMARY:CP Beginner Guitar/Ukelele
DESCRIPTION:AM 9-12pm: Beginner Guitar/Ukelele: Have you ever wanted to learn the basics of guitar or ukelele?  Come try it out and learn some simple chords! Cost: $0
URL:https://communitylivingowensound.com/event/cp-beginner-guitar-ukelele/2025-12-01/
CATEGORIES:Community Participation
END:VEVENT
BEGIN:VEVENT
DTSTART;TZID=America/Toronto:20251201T090000
DTEND;TZID=America/Toronto:20251201T120000
DTSTAMP:20260419T201421
CREATED:20251201T155723Z
LAST-MODIFIED:20251201T155723Z
UID:10003256-1764579600-1764590400@communitylivingowensound.com
SUMMARY:CP Winter Wonderland
DESCRIPTION:AM 9-12pm: Winter Wonderland: Let’s get outside and play each week\, hike and explore nature.  Cost: $0
URL:https://communitylivingowensound.com/event/cp-winter-wonderland/2025-12-01/
CATEGORIES:Community Participation
ATTACH;FMTTYPE=image/jpeg:https://communitylivingowensound.com/wp-content/uploads/2025/12/winter-wonderland.jpg
END:VEVENT
BEGIN:VEVENT
DTSTART;TZID=America/Toronto:20251201T090000
DTEND;TZID=America/Toronto:20251201T120000
DTSTAMP:20260419T201421
CREATED:20251201T155856Z
LAST-MODIFIED:20251201T155856Z
UID:10003268-1764579600-1764590400@communitylivingowensound.com
SUMMARY:CP Grocery Group
DESCRIPTION:AM 9-12pm: Grocery Group: Couponing\, pros and cons of different stores.  Bring your own money each week for groceries.
URL:https://communitylivingowensound.com/event/cp-grocery-group/2025-12-01/
CATEGORIES:Community Participation
ATTACH;FMTTYPE=image/jpeg:https://communitylivingowensound.com/wp-content/uploads/2025/12/grocery-group.jpg
END:VEVENT
BEGIN:VEVENT
DTSTART;TZID=America/Toronto:20251201T090000
DTEND;TZID=America/Toronto:20251201T120000
DTSTAMP:20260419T201421
CREATED:20251201T193338Z
LAST-MODIFIED:20251201T193338Z
UID:10003571-1764579600-1764590400@communitylivingowensound.com
SUMMARY:CP PE: Coffee Shop & Cooking Lunch
DESCRIPTION:AM – Coffee Shop & Cooking Lunch – Join us for a short walk to Tim Hortons\, then head back to Link by the Shore to make lunch together.  Cost: $60 + Bring your own money for Tim’s
URL:https://communitylivingowensound.com/event/cp-pe-coffee-shop-cooking-lunch/2025-12-01/
CATEGORIES:Community Participation
ATTACH;FMTTYPE=image/jpeg:https://communitylivingowensound.com/wp-content/uploads/2025/03/lunch-club.jpg
END:VEVENT
BEGIN:VEVENT
DTSTART;TZID=America/Toronto:20251201T090000
DTEND;TZID=America/Toronto:20251201T170000
DTSTAMP:20260419T201421
CREATED:20251125T145000Z
LAST-MODIFIED:20251125T145000Z
UID:10003164-1764579600-1764608400@communitylivingowensound.com
SUMMARY:Passport: Christmas Shopping Trip - Waterloo
DESCRIPTION:Passport: Christmas Shopping Trip – Waterloo\nDate: Monday\, December 1 Time: 9am-5pm\nCost: $124 \nRSVP by: \nLocation: Waterloo\, St Jacobs \n \nGet your holiday shopping done in style with a festive day trip to Conestoga Mall and the charming St. Jacobs Market District! Pick out the perfect gifts\, enjoy a seasonal treat or two\, and soak up all the cozy Christmas vibes!
URL:https://communitylivingowensound.com/event/passport-christmas-shopping-trip-waterloo/
CATEGORIES:Passport
ATTACH;FMTTYPE=image/jpeg:https://communitylivingowensound.com/wp-content/uploads/2025/11/christmas-shopping.jpg
END:VEVENT
BEGIN:VEVENT
DTSTART;TZID=America/Toronto:20251201T130000
DTEND;TZID=America/Toronto:20251201T140000
DTSTAMP:20260419T201421
CREATED:20251201T193516Z
LAST-MODIFIED:20251201T193516Z
UID:10003583-1764594000-1764597600@communitylivingowensound.com
SUMMARY:CP PE: Indoor Walking
DESCRIPTION:PM – Indoor Walking – Meet us at the Port Elgin United Church from 1-2pm on Monday afternoons to get your steps in! Cost: $10
URL:https://communitylivingowensound.com/event/cp-pe-indoor-walking/2025-12-01/
CATEGORIES:Community Participation
ATTACH;FMTTYPE=image/jpeg:https://communitylivingowensound.com/wp-content/uploads/2025/12/indoor-walking.jpg
END:VEVENT
BEGIN:VEVENT
DTSTART;TZID=America/Toronto:20251201T130000
DTEND;TZID=America/Toronto:20251201T160000
DTSTAMP:20260419T201421
CREATED:20251201T160023Z
LAST-MODIFIED:20251201T160023Z
UID:10003280-1764594000-1764604800@communitylivingowensound.com
SUMMARY:CP Library & Coffee
DESCRIPTION:PM 1-4pm: Library & Coffee: Each week we will visit our local library and look for a good book to take home. After we will visit a coffee shop and stop for a hot drink and treat. You must have your own library card.  Bring your own money each week. Cost: Bring $
URL:https://communitylivingowensound.com/event/cp-library-coffee/2025-12-01/
CATEGORIES:Community Participation
ATTACH;FMTTYPE=image/jpeg:https://communitylivingowensound.com/wp-content/uploads/2025/12/library.jpg
END:VEVENT
BEGIN:VEVENT
DTSTART;TZID=America/Toronto:20251201T130000
DTEND;TZID=America/Toronto:20251201T160000
DTSTAMP:20260419T201421
CREATED:20251201T160250Z
LAST-MODIFIED:20251201T160250Z
UID:10003292-1764594000-1764604800@communitylivingowensound.com
SUMMARY:CP Buns in the Oven
DESCRIPTION:PM 1-4pm: Buns in the Oven: Each week we will learn new recipes to make bread\, biscuits\, loaves and muffins! Cost: $50
URL:https://communitylivingowensound.com/event/cp-buns-in-the-oven/2025-12-01/
CATEGORIES:Community Participation
ATTACH;FMTTYPE=image/jpeg:https://communitylivingowensound.com/wp-content/uploads/2025/12/buns.jpg
END:VEVENT
BEGIN:VEVENT
DTSTART;TZID=America/Toronto:20251201T130000
DTEND;TZID=America/Toronto:20251201T160000
DTSTAMP:20260419T201421
CREATED:20251201T160444Z
LAST-MODIFIED:20251201T160444Z
UID:10003304-1764594000-1764604800@communitylivingowensound.com
SUMMARY:CP Homemade Gifts
DESCRIPTION:PM 1-4pm: Homemade Gifts: – Create something special and unique while on a budget for the people on your gift \nlist this year – Christmas\, Valentines\, Birthdays. Cost: $50
URL:https://communitylivingowensound.com/event/cp-homemade-gifts/2025-12-01/
CATEGORIES:Community Participation
ATTACH;FMTTYPE=image/jpeg:https://communitylivingowensound.com/wp-content/uploads/2025/12/gifts.jpg
END:VEVENT
BEGIN:VEVENT
DTSTART;TZID=America/Toronto:20251201T160000
DTEND;TZID=America/Toronto:20251201T170000
DTSTAMP:20260419T201421
CREATED:20251201T161659Z
LAST-MODIFIED:20251201T161659Z
UID:10003316-1764604800-1764608400@communitylivingowensound.com
SUMMARY:CP Billiards
DESCRIPTION:PM 4-5pm: Billiards: Each week come hangout with friends and shoot some pool at the new Prohibition location. Cost: $43
URL:https://communitylivingowensound.com/event/cp-billiards/2025-12-01/
CATEGORIES:Community Participation
ATTACH;FMTTYPE=image/jpeg:https://communitylivingowensound.com/wp-content/uploads/2024/07/billiards.jpg
END:VEVENT
BEGIN:VEVENT
DTSTART;TZID=America/Toronto:20251202T090000
DTEND;TZID=America/Toronto:20251202T120000
DTSTAMP:20260419T201421
CREATED:20251201T161907Z
LAST-MODIFIED:20251201T161907Z
UID:10003328-1764666000-1764676800@communitylivingowensound.com
SUMMARY:CP Tech Tuesday
DESCRIPTION:AM 9-12pm: Tech Tuesday: Gain skills using iPhone or Android\, laptops and TVs. Learn How to use research resources (ChatGPT). Write emails\, save contacts\, and more! Cost: $0
URL:https://communitylivingowensound.com/event/cp-tech-tuesday/2025-12-02/
CATEGORIES:Community Participation
ATTACH;FMTTYPE=image/jpeg:https://communitylivingowensound.com/wp-content/uploads/2025/08/tech-tuesday.jpg
END:VEVENT
BEGIN:VEVENT
DTSTART;TZID=America/Toronto:20251202T090000
DTEND;TZID=America/Toronto:20251202T120000
DTSTAMP:20260419T201421
CREATED:20251201T162134Z
LAST-MODIFIED:20251201T162134Z
UID:10003341-1764666000-1764676800@communitylivingowensound.com
SUMMARY:CP Community Connections
DESCRIPTION:AM 9-12pm: Community Connections: Do you like giving back to your community?  Each week we will visit community programs that we can lend a helping hand to. Cost: $0  \n \n 
URL:https://communitylivingowensound.com/event/cp-community-connections/2025-12-02/
CATEGORIES:Community Participation
ATTACH;FMTTYPE=image/jpeg:https://communitylivingowensound.com/wp-content/uploads/2024/10/volunteer.jpg
END:VEVENT
END:VCALENDAR