BEGIN:VCALENDAR
VERSION:2.0
PRODID:-//Community Living Owen Sound and District - ECPv6.15.18//NONSGML v1.0//EN
CALSCALE:GREGORIAN
METHOD:PUBLISH
X-ORIGINAL-URL:https://communitylivingowensound.com
X-WR-CALDESC:Events for Community Living Owen Sound and District
REFRESH-INTERVAL;VALUE=DURATION:PT1H
X-Robots-Tag:noindex
X-PUBLISHED-TTL:PT1H
BEGIN:VTIMEZONE
TZID:America/Toronto
BEGIN:DAYLIGHT
TZOFFSETFROM:-0500
TZOFFSETTO:-0400
TZNAME:EDT
DTSTART:20240310T070000
END:DAYLIGHT
BEGIN:STANDARD
TZOFFSETFROM:-0400
TZOFFSETTO:-0500
TZNAME:EST
DTSTART:20241103T060000
END:STANDARD
BEGIN:DAYLIGHT
TZOFFSETFROM:-0500
TZOFFSETTO:-0400
TZNAME:EDT
DTSTART:20250309T070000
END:DAYLIGHT
BEGIN:STANDARD
TZOFFSETFROM:-0400
TZOFFSETTO:-0500
TZNAME:EST
DTSTART:20251102T060000
END:STANDARD
BEGIN:DAYLIGHT
TZOFFSETFROM:-0500
TZOFFSETTO:-0400
TZNAME:EDT
DTSTART:20260308T070000
END:DAYLIGHT
BEGIN:STANDARD
TZOFFSETFROM:-0400
TZOFFSETTO:-0500
TZNAME:EST
DTSTART:20261101T060000
END:STANDARD
END:VTIMEZONE
BEGIN:VEVENT
DTSTART;TZID=America/Toronto:20250501T103000
DTEND;TZID=America/Toronto:20250501T130000
DTSTAMP:20260420T234802
CREATED:20250318T173315Z
LAST-MODIFIED:20250318T173315Z
UID:10002117-1746095400-1746104400@communitylivingowensound.com
SUMMARY:Soups and Stews (PE)
DESCRIPTION:PM- Soups & Stews: Learn to make a different soup or stew each week. Enjoy a bowl with friends for lunch and bring a container to take some home!
URL:https://communitylivingowensound.com/event/soups-and-stews-pe/2025-05-01/
CATEGORIES:Community Participation
ATTACH;FMTTYPE=image/jpeg:https://communitylivingowensound.com/wp-content/uploads/2025/03/soups-and-stews.jpg
END:VEVENT
BEGIN:VEVENT
DTSTART;TZID=America/Toronto:20250501T130000
DTEND;TZID=America/Toronto:20250501T160000
DTSTAMP:20260420T234802
CREATED:20250318T173429Z
LAST-MODIFIED:20250318T173429Z
UID:10002130-1746104400-1746115200@communitylivingowensound.com
SUMMARY:Shopping on a Budget (PE)
DESCRIPTION:PM – Shopping on a Budget – We will be heading to different towns to enjoy strolling through secondhand shops with the hope of finding any items you might need at home at a cheaper cost!!!  COST: Bring your spending money each week.
URL:https://communitylivingowensound.com/event/shopping-on-a-budget-pe/2025-05-01/
CATEGORIES:Community Participation
ATTACH;FMTTYPE=image/jpeg:https://communitylivingowensound.com/wp-content/uploads/2025/03/thrifting.jpg
END:VEVENT
BEGIN:VEVENT
DTSTART;TZID=America/Toronto:20250501T150000
DTEND;TZID=America/Toronto:20250501T163000
DTSTAMP:20260420T234802
CREATED:20250318T173627Z
LAST-MODIFIED:20250318T173627Z
UID:10002143-1746111600-1746117000@communitylivingowensound.com
SUMMARY:Gentle Walking Southampton (PE)
DESCRIPTION:PM – Gentle Southampton Walking: Meet us at the Southampton Arena every Thursday afternoon for a relaxing walk around town.
URL:https://communitylivingowensound.com/event/gentle-walking-southampton-pe/2025-05-01/
CATEGORIES:Community Participation
ATTACH;FMTTYPE=image/jpeg:https://communitylivingowensound.com/wp-content/uploads/2025/03/walking.jpg
END:VEVENT
BEGIN:VEVENT
DTSTART;VALUE=DATE:20250502
DTEND;VALUE=DATE:20250503
DTSTAMP:20260420T234802
CREATED:20250318T174016Z
LAST-MODIFIED:20250318T184421Z
UID:10002169-1746144000-1746230399@communitylivingowensound.com
SUMMARY:Fun Fridays (PE)
DESCRIPTION:These activities are a one-time event that will be happening each Friday\, sometimes in the evening or on a weekend. Some Fun Friday activities will have a cost\, others you will need to bring your own spending money. Participants need to sign up in advance for Fun Fridays. Please check your confirmation letters to see which activity you have signed up for. \nPlease check TIME for each event below. These are not full day events. \n\n\n\nDate\nEvent \n \n✔\n\n\nMarch 7\n9:00 – 12:00 – Soap Making\n\n\n\n\n\n12:00 – 4:00 – Grey & Bruce Advocates Meeting in Owen Sound\n\n\n\n\n\n12:45 – 4:00 – Shuffleboard with Owen Sound Link\n\n\n\n\nMarch 14\n9:00 – 4:00 – St. Patrick’s Day Celebrations at the Link in Owen Sound – Chili Cookoff and Crokinole Tournament\n\n\n\n\nMarch 21\n2:00 – 7:00 – Chatsworth Music Jam & Dinner\n\n\n\n\nMarch 28\n9:00 – 12:30 – Fun Swim in Hanover\n\n\n\n\n\n2:00 – 4:00 – Beaded Coasters Craft\n\n\n\n\n\n\n\n\n\n\nApril 4\n10:00 – 11:30 – Robotics at the Port Elgin Library\n\n\n\n\n\n12:00 – 4:00 – Grey & Bruce Advocates Meeting in Owen Sound\n\n\n\n\n\n12:30 – 4:00 – LEGO with the Link in Owen Sound\n\n\n\n\nApril 11\n10:00 – 12:00 – Easter Baking Treat\n\n\n\n\nApril 11\n12:00 – 4:00 – Grey & Bruce Advocates Meeting in Owen Sound\n\n\n\n\n\n4:30pm – Dinner and a Movie (Minecraft) in Owen Sound\nTime is approximate and will be shared closer to event\n\n\n\n\nApril 25\n11:00 – 3:00 – Festive Easter Luncheon at the Link in Owen Sound\, followed by Comic/Manga Book Club at the Link\n\n\n\n\nMay 2\n9:00 – 12:30 – Fun Swim in Hanover\n\n\n\n\n\n12:00 – 4:00 – Grey & Bruce Advocates Meeting in Owen Sound\n\n\n\n\nMay 9\n9:00 – 4:00 – A Day at the Link in Owen Sound\nAM – Make & Race Your Own Boat; PM – FishingLunch Out at Sabitris or Indian Desire – BYO$\n\n\n\n\n\n4:30 – 10:30 – Dinner Out &Tragically Hip Tribute at the Roxy\n\n\n\n\nMay 16\n10:00 – 1:00 Self Care Day – Manicures and Lunch with Friends (Chinese)\n\n\n\n\n\n1:00 – 4:00 – Afternoon at MacGregor Park\n\n\n\n\nMay 23\n10:00 – 12:00 – Victorian Tea\n\n\n\n\n\n1:00 – 4:00 – Laser Tag\n\n\n\n\nMay 30\n9:00 – 12:00 – Hiking at Inglis Falls\n\n\n\n\n\n1:00 – 3:00 – DIY Crystal Suncatchers\n\n\n\n\n\n4:30pm – Dinner and a Movie (Lilo & Stitch) in Owen Sound\nTime is approximate and will be shared closer to event
URL:https://communitylivingowensound.com/event/fun-fridays-pe/2025-05-02/
CATEGORIES:Community Participation
ATTACH;FMTTYPE=image/jpeg:https://communitylivingowensound.com/wp-content/uploads/2025/03/fun-friday.jpg
END:VEVENT
BEGIN:VEVENT
DTSTART;TZID=America/Toronto:20250505T100000
DTEND;TZID=America/Toronto:20250505T120000
DTSTAMP:20260420T234802
CREATED:20250318T171741Z
LAST-MODIFIED:20250318T171741Z
UID:10002019-1746439200-1746446400@communitylivingowensound.com
SUMMARY:Smoothies and Strolls (PE)
DESCRIPTION:AM – Smoothies & Stroll: Meet us at Link by the Shore for a fresh smoothie each week\, followed by a short walk in our neighbourhood.
URL:https://communitylivingowensound.com/event/smoothies-and-strolls-pe/2025-05-05/
CATEGORIES:Community Participation
ATTACH;FMTTYPE=image/jpeg:https://communitylivingowensound.com/wp-content/uploads/2025/03/smoothie-stroll.jpg
END:VEVENT
BEGIN:VEVENT
DTSTART;TZID=America/Toronto:20250505T140000
DTEND;TZID=America/Toronto:20250505T150000
DTSTAMP:20260420T234802
CREATED:20250318T171926Z
LAST-MODIFIED:20250318T171926Z
UID:10002030-1746453600-1746457200@communitylivingowensound.com
SUMMARY:Sign Language (PE)
DESCRIPTION:PM – Sign Language: Join us at Link by the Shore as we learn how to communicate with sign language! Instructor Andrea Wist will teach us new signs each week. This will begin on March 10.
URL:https://communitylivingowensound.com/event/sign-language-pe/2025-05-05/
CATEGORIES:Community Participation
ATTACH;FMTTYPE=image/jpeg:https://communitylivingowensound.com/wp-content/uploads/2025/03/sign-language.jpg
END:VEVENT
BEGIN:VEVENT
DTSTART;TZID=America/Toronto:20250506T093000
DTEND;TZID=America/Toronto:20250506T123000
DTSTAMP:20260420T234802
CREATED:20250318T172432Z
LAST-MODIFIED:20250318T172433Z
UID:10002066-1746523800-1746534600@communitylivingowensound.com
SUMMARY:Music & Drumming (PE)
DESCRIPTION:AM – Music & Drumming – Week 1: We will join our friends in Wiarton for a fun drumming program. Week 2: We will go to Community Living Walkerton for a morning of live music\, with new performers each time.
URL:https://communitylivingowensound.com/event/music-drumming-pe-2/2025-05-06/
CATEGORIES:Community Participation
ATTACH;FMTTYPE=image/jpeg:https://communitylivingowensound.com/wp-content/uploads/2025/03/music-and-drumming.jpg
END:VEVENT
BEGIN:VEVENT
DTSTART;TZID=America/Toronto:20250506T130000
DTEND;TZID=America/Toronto:20250506T160000
DTSTAMP:20260420T234802
CREATED:20250318T172601Z
LAST-MODIFIED:20250318T172601Z
UID:10002079-1746536400-1746547200@communitylivingowensound.com
SUMMARY:Spring Hikes (PE)
DESCRIPTION:PM – Spring Hiking – We are going to explore trails in Bruce and Grey Counties\, looking for signs of Spring.  On the lookout for animal tracks\, birds\, and trees in blossom with our friends from Owen Sound.
URL:https://communitylivingowensound.com/event/spring-hikes-pe/2025-05-06/
CATEGORIES:Community Participation
ATTACH;FMTTYPE=image/jpeg:https://communitylivingowensound.com/wp-content/uploads/2025/03/spring-hike.jpg
END:VEVENT
BEGIN:VEVENT
DTSTART;TZID=America/Toronto:20250506T140000
DTEND;TZID=America/Toronto:20250506T160000
DTSTAMP:20260420T234802
CREATED:20250318T172329Z
LAST-MODIFIED:20250318T172329Z
UID:10002054-1746540000-1746547200@communitylivingowensound.com
SUMMARY:Craft Circle (PE)
DESCRIPTION:PM – Craft Circle: Bring your own craft (diamond dot\, rug hooking\, knitting\, etc) and enjoy crafting with friends.
URL:https://communitylivingowensound.com/event/craft-circle-pe/2025-05-06/
CATEGORIES:Community Participation
ATTACH;FMTTYPE=image/jpeg:https://communitylivingowensound.com/wp-content/uploads/2024/10/crafts.jpg
END:VEVENT
BEGIN:VEVENT
DTSTART;TZID=America/Toronto:20250507T100000
DTEND;TZID=America/Toronto:20250507T120000
DTSTAMP:20260420T234802
CREATED:20250318T172752Z
LAST-MODIFIED:20250318T172752Z
UID:10002092-1746612000-1746619200@communitylivingowensound.com
SUMMARY:Brunch and Beats (PE)
DESCRIPTION:AM – Brunch & Beats: Each morning we will be exploring new recipes to create a delicious brunch to enjoy at The Link by the Shore\, while we enjoy wonderful music!
URL:https://communitylivingowensound.com/event/brunch-and-beats-pe/2025-05-07/
CATEGORIES:Community Participation
ATTACH;FMTTYPE=image/jpeg:https://communitylivingowensound.com/wp-content/uploads/2024/10/brunch.jpg
END:VEVENT
BEGIN:VEVENT
DTSTART;TZID=America/Toronto:20250507T133000
DTEND;TZID=America/Toronto:20250507T153000
DTSTAMP:20260420T234802
CREATED:20250318T172915Z
LAST-MODIFIED:20250318T172915Z
UID:10002105-1746624600-1746631800@communitylivingowensound.com
SUMMARY:Soups & Stews (PE)
DESCRIPTION:PM- Soups & Stews: Learn to make a different soup or stew each week. Enjoy a bowl with friends for lunch and bring a container to take some home!
URL:https://communitylivingowensound.com/event/soups-stews-pe/2025-05-07/
CATEGORIES:Community Participation
ATTACH;FMTTYPE=image/jpeg:https://communitylivingowensound.com/wp-content/uploads/2025/03/soups-and-stews.jpg
END:VEVENT
BEGIN:VEVENT
DTSTART;TZID=America/Toronto:20250508T103000
DTEND;TZID=America/Toronto:20250508T130000
DTSTAMP:20260420T234802
CREATED:20250318T173315Z
LAST-MODIFIED:20250318T173315Z
UID:10002118-1746700200-1746709200@communitylivingowensound.com
SUMMARY:Soups and Stews (PE)
DESCRIPTION:PM- Soups & Stews: Learn to make a different soup or stew each week. Enjoy a bowl with friends for lunch and bring a container to take some home!
URL:https://communitylivingowensound.com/event/soups-and-stews-pe/2025-05-08/
CATEGORIES:Community Participation
ATTACH;FMTTYPE=image/jpeg:https://communitylivingowensound.com/wp-content/uploads/2025/03/soups-and-stews.jpg
END:VEVENT
BEGIN:VEVENT
DTSTART;TZID=America/Toronto:20250508T130000
DTEND;TZID=America/Toronto:20250508T160000
DTSTAMP:20260420T234802
CREATED:20250318T173429Z
LAST-MODIFIED:20250318T173429Z
UID:10002131-1746709200-1746720000@communitylivingowensound.com
SUMMARY:Shopping on a Budget (PE)
DESCRIPTION:PM – Shopping on a Budget – We will be heading to different towns to enjoy strolling through secondhand shops with the hope of finding any items you might need at home at a cheaper cost!!!  COST: Bring your spending money each week.
URL:https://communitylivingowensound.com/event/shopping-on-a-budget-pe/2025-05-08/
CATEGORIES:Community Participation
ATTACH;FMTTYPE=image/jpeg:https://communitylivingowensound.com/wp-content/uploads/2025/03/thrifting.jpg
END:VEVENT
BEGIN:VEVENT
DTSTART;TZID=America/Toronto:20250508T150000
DTEND;TZID=America/Toronto:20250508T163000
DTSTAMP:20260420T234802
CREATED:20250318T173627Z
LAST-MODIFIED:20250318T173627Z
UID:10002144-1746716400-1746721800@communitylivingowensound.com
SUMMARY:Gentle Walking Southampton (PE)
DESCRIPTION:PM – Gentle Southampton Walking: Meet us at the Southampton Arena every Thursday afternoon for a relaxing walk around town.
URL:https://communitylivingowensound.com/event/gentle-walking-southampton-pe/2025-05-08/
CATEGORIES:Community Participation
ATTACH;FMTTYPE=image/jpeg:https://communitylivingowensound.com/wp-content/uploads/2025/03/walking.jpg
END:VEVENT
BEGIN:VEVENT
DTSTART;VALUE=DATE:20250509
DTEND;VALUE=DATE:20250510
DTSTAMP:20260420T234802
CREATED:20250318T174016Z
LAST-MODIFIED:20250318T184421Z
UID:10002170-1746748800-1746835199@communitylivingowensound.com
SUMMARY:Fun Fridays (PE)
DESCRIPTION:These activities are a one-time event that will be happening each Friday\, sometimes in the evening or on a weekend. Some Fun Friday activities will have a cost\, others you will need to bring your own spending money. Participants need to sign up in advance for Fun Fridays. Please check your confirmation letters to see which activity you have signed up for. \nPlease check TIME for each event below. These are not full day events. \n\n\n\nDate\nEvent \n \n✔\n\n\nMarch 7\n9:00 – 12:00 – Soap Making\n\n\n\n\n\n12:00 – 4:00 – Grey & Bruce Advocates Meeting in Owen Sound\n\n\n\n\n\n12:45 – 4:00 – Shuffleboard with Owen Sound Link\n\n\n\n\nMarch 14\n9:00 – 4:00 – St. Patrick’s Day Celebrations at the Link in Owen Sound – Chili Cookoff and Crokinole Tournament\n\n\n\n\nMarch 21\n2:00 – 7:00 – Chatsworth Music Jam & Dinner\n\n\n\n\nMarch 28\n9:00 – 12:30 – Fun Swim in Hanover\n\n\n\n\n\n2:00 – 4:00 – Beaded Coasters Craft\n\n\n\n\n\n\n\n\n\n\nApril 4\n10:00 – 11:30 – Robotics at the Port Elgin Library\n\n\n\n\n\n12:00 – 4:00 – Grey & Bruce Advocates Meeting in Owen Sound\n\n\n\n\n\n12:30 – 4:00 – LEGO with the Link in Owen Sound\n\n\n\n\nApril 11\n10:00 – 12:00 – Easter Baking Treat\n\n\n\n\nApril 11\n12:00 – 4:00 – Grey & Bruce Advocates Meeting in Owen Sound\n\n\n\n\n\n4:30pm – Dinner and a Movie (Minecraft) in Owen Sound\nTime is approximate and will be shared closer to event\n\n\n\n\nApril 25\n11:00 – 3:00 – Festive Easter Luncheon at the Link in Owen Sound\, followed by Comic/Manga Book Club at the Link\n\n\n\n\nMay 2\n9:00 – 12:30 – Fun Swim in Hanover\n\n\n\n\n\n12:00 – 4:00 – Grey & Bruce Advocates Meeting in Owen Sound\n\n\n\n\nMay 9\n9:00 – 4:00 – A Day at the Link in Owen Sound\nAM – Make & Race Your Own Boat; PM – FishingLunch Out at Sabitris or Indian Desire – BYO$\n\n\n\n\n\n4:30 – 10:30 – Dinner Out &Tragically Hip Tribute at the Roxy\n\n\n\n\nMay 16\n10:00 – 1:00 Self Care Day – Manicures and Lunch with Friends (Chinese)\n\n\n\n\n\n1:00 – 4:00 – Afternoon at MacGregor Park\n\n\n\n\nMay 23\n10:00 – 12:00 – Victorian Tea\n\n\n\n\n\n1:00 – 4:00 – Laser Tag\n\n\n\n\nMay 30\n9:00 – 12:00 – Hiking at Inglis Falls\n\n\n\n\n\n1:00 – 3:00 – DIY Crystal Suncatchers\n\n\n\n\n\n4:30pm – Dinner and a Movie (Lilo & Stitch) in Owen Sound\nTime is approximate and will be shared closer to event
URL:https://communitylivingowensound.com/event/fun-fridays-pe/2025-05-09/
CATEGORIES:Community Participation
ATTACH;FMTTYPE=image/jpeg:https://communitylivingowensound.com/wp-content/uploads/2025/03/fun-friday.jpg
END:VEVENT
BEGIN:VEVENT
DTSTART;TZID=America/Toronto:20250512T100000
DTEND;TZID=America/Toronto:20250512T120000
DTSTAMP:20260420T234802
CREATED:20250318T171741Z
LAST-MODIFIED:20250318T171741Z
UID:10002020-1747044000-1747051200@communitylivingowensound.com
SUMMARY:Smoothies and Strolls (PE)
DESCRIPTION:AM – Smoothies & Stroll: Meet us at Link by the Shore for a fresh smoothie each week\, followed by a short walk in our neighbourhood.
URL:https://communitylivingowensound.com/event/smoothies-and-strolls-pe/2025-05-12/
CATEGORIES:Community Participation
ATTACH;FMTTYPE=image/jpeg:https://communitylivingowensound.com/wp-content/uploads/2025/03/smoothie-stroll.jpg
END:VEVENT
BEGIN:VEVENT
DTSTART;TZID=America/Toronto:20250512T140000
DTEND;TZID=America/Toronto:20250512T150000
DTSTAMP:20260420T234802
CREATED:20250318T171926Z
LAST-MODIFIED:20250318T171926Z
UID:10002031-1747058400-1747062000@communitylivingowensound.com
SUMMARY:Sign Language (PE)
DESCRIPTION:PM – Sign Language: Join us at Link by the Shore as we learn how to communicate with sign language! Instructor Andrea Wist will teach us new signs each week. This will begin on March 10.
URL:https://communitylivingowensound.com/event/sign-language-pe/2025-05-12/
CATEGORIES:Community Participation
ATTACH;FMTTYPE=image/jpeg:https://communitylivingowensound.com/wp-content/uploads/2025/03/sign-language.jpg
END:VEVENT
BEGIN:VEVENT
DTSTART;TZID=America/Toronto:20250513T093000
DTEND;TZID=America/Toronto:20250513T123000
DTSTAMP:20260420T234802
CREATED:20250318T172432Z
LAST-MODIFIED:20250318T172433Z
UID:10002067-1747128600-1747139400@communitylivingowensound.com
SUMMARY:Music & Drumming (PE)
DESCRIPTION:AM – Music & Drumming – Week 1: We will join our friends in Wiarton for a fun drumming program. Week 2: We will go to Community Living Walkerton for a morning of live music\, with new performers each time.
URL:https://communitylivingowensound.com/event/music-drumming-pe-2/2025-05-13/
CATEGORIES:Community Participation
ATTACH;FMTTYPE=image/jpeg:https://communitylivingowensound.com/wp-content/uploads/2025/03/music-and-drumming.jpg
END:VEVENT
BEGIN:VEVENT
DTSTART;TZID=America/Toronto:20250513T130000
DTEND;TZID=America/Toronto:20250513T160000
DTSTAMP:20260420T234802
CREATED:20250318T172601Z
LAST-MODIFIED:20250318T172601Z
UID:10002080-1747141200-1747152000@communitylivingowensound.com
SUMMARY:Spring Hikes (PE)
DESCRIPTION:PM – Spring Hiking – We are going to explore trails in Bruce and Grey Counties\, looking for signs of Spring.  On the lookout for animal tracks\, birds\, and trees in blossom with our friends from Owen Sound.
URL:https://communitylivingowensound.com/event/spring-hikes-pe/2025-05-13/
CATEGORIES:Community Participation
ATTACH;FMTTYPE=image/jpeg:https://communitylivingowensound.com/wp-content/uploads/2025/03/spring-hike.jpg
END:VEVENT
BEGIN:VEVENT
DTSTART;TZID=America/Toronto:20250513T140000
DTEND;TZID=America/Toronto:20250513T160000
DTSTAMP:20260420T234802
CREATED:20250318T172329Z
LAST-MODIFIED:20250318T172329Z
UID:10002055-1747144800-1747152000@communitylivingowensound.com
SUMMARY:Craft Circle (PE)
DESCRIPTION:PM – Craft Circle: Bring your own craft (diamond dot\, rug hooking\, knitting\, etc) and enjoy crafting with friends.
URL:https://communitylivingowensound.com/event/craft-circle-pe/2025-05-13/
CATEGORIES:Community Participation
ATTACH;FMTTYPE=image/jpeg:https://communitylivingowensound.com/wp-content/uploads/2024/10/crafts.jpg
END:VEVENT
BEGIN:VEVENT
DTSTART;TZID=America/Toronto:20250514T100000
DTEND;TZID=America/Toronto:20250514T120000
DTSTAMP:20260420T234802
CREATED:20250318T172752Z
LAST-MODIFIED:20250318T172752Z
UID:10002093-1747216800-1747224000@communitylivingowensound.com
SUMMARY:Brunch and Beats (PE)
DESCRIPTION:AM – Brunch & Beats: Each morning we will be exploring new recipes to create a delicious brunch to enjoy at The Link by the Shore\, while we enjoy wonderful music!
URL:https://communitylivingowensound.com/event/brunch-and-beats-pe/2025-05-14/
CATEGORIES:Community Participation
ATTACH;FMTTYPE=image/jpeg:https://communitylivingowensound.com/wp-content/uploads/2024/10/brunch.jpg
END:VEVENT
BEGIN:VEVENT
DTSTART;TZID=America/Toronto:20250514T133000
DTEND;TZID=America/Toronto:20250514T153000
DTSTAMP:20260420T234802
CREATED:20250318T172915Z
LAST-MODIFIED:20250318T172915Z
UID:10002106-1747229400-1747236600@communitylivingowensound.com
SUMMARY:Soups & Stews (PE)
DESCRIPTION:PM- Soups & Stews: Learn to make a different soup or stew each week. Enjoy a bowl with friends for lunch and bring a container to take some home!
URL:https://communitylivingowensound.com/event/soups-stews-pe/2025-05-14/
CATEGORIES:Community Participation
ATTACH;FMTTYPE=image/jpeg:https://communitylivingowensound.com/wp-content/uploads/2025/03/soups-and-stews.jpg
END:VEVENT
BEGIN:VEVENT
DTSTART;TZID=America/Toronto:20250515T103000
DTEND;TZID=America/Toronto:20250515T130000
DTSTAMP:20260420T234802
CREATED:20250318T173315Z
LAST-MODIFIED:20250318T173315Z
UID:10002119-1747305000-1747314000@communitylivingowensound.com
SUMMARY:Soups and Stews (PE)
DESCRIPTION:PM- Soups & Stews: Learn to make a different soup or stew each week. Enjoy a bowl with friends for lunch and bring a container to take some home!
URL:https://communitylivingowensound.com/event/soups-and-stews-pe/2025-05-15/
CATEGORIES:Community Participation
ATTACH;FMTTYPE=image/jpeg:https://communitylivingowensound.com/wp-content/uploads/2025/03/soups-and-stews.jpg
END:VEVENT
BEGIN:VEVENT
DTSTART;TZID=America/Toronto:20250515T130000
DTEND;TZID=America/Toronto:20250515T160000
DTSTAMP:20260420T234802
CREATED:20250318T173429Z
LAST-MODIFIED:20250318T173429Z
UID:10002132-1747314000-1747324800@communitylivingowensound.com
SUMMARY:Shopping on a Budget (PE)
DESCRIPTION:PM – Shopping on a Budget – We will be heading to different towns to enjoy strolling through secondhand shops with the hope of finding any items you might need at home at a cheaper cost!!!  COST: Bring your spending money each week.
URL:https://communitylivingowensound.com/event/shopping-on-a-budget-pe/2025-05-15/
CATEGORIES:Community Participation
ATTACH;FMTTYPE=image/jpeg:https://communitylivingowensound.com/wp-content/uploads/2025/03/thrifting.jpg
END:VEVENT
BEGIN:VEVENT
DTSTART;TZID=America/Toronto:20250515T150000
DTEND;TZID=America/Toronto:20250515T163000
DTSTAMP:20260420T234802
CREATED:20250318T173627Z
LAST-MODIFIED:20250318T173627Z
UID:10002145-1747321200-1747326600@communitylivingowensound.com
SUMMARY:Gentle Walking Southampton (PE)
DESCRIPTION:PM – Gentle Southampton Walking: Meet us at the Southampton Arena every Thursday afternoon for a relaxing walk around town.
URL:https://communitylivingowensound.com/event/gentle-walking-southampton-pe/2025-05-15/
CATEGORIES:Community Participation
ATTACH;FMTTYPE=image/jpeg:https://communitylivingowensound.com/wp-content/uploads/2025/03/walking.jpg
END:VEVENT
BEGIN:VEVENT
DTSTART;VALUE=DATE:20250516
DTEND;VALUE=DATE:20250517
DTSTAMP:20260420T234802
CREATED:20250318T174016Z
LAST-MODIFIED:20250318T184421Z
UID:10002171-1747353600-1747439999@communitylivingowensound.com
SUMMARY:Fun Fridays (PE)
DESCRIPTION:These activities are a one-time event that will be happening each Friday\, sometimes in the evening or on a weekend. Some Fun Friday activities will have a cost\, others you will need to bring your own spending money. Participants need to sign up in advance for Fun Fridays. Please check your confirmation letters to see which activity you have signed up for. \nPlease check TIME for each event below. These are not full day events. \n\n\n\nDate\nEvent \n \n✔\n\n\nMarch 7\n9:00 – 12:00 – Soap Making\n\n\n\n\n\n12:00 – 4:00 – Grey & Bruce Advocates Meeting in Owen Sound\n\n\n\n\n\n12:45 – 4:00 – Shuffleboard with Owen Sound Link\n\n\n\n\nMarch 14\n9:00 – 4:00 – St. Patrick’s Day Celebrations at the Link in Owen Sound – Chili Cookoff and Crokinole Tournament\n\n\n\n\nMarch 21\n2:00 – 7:00 – Chatsworth Music Jam & Dinner\n\n\n\n\nMarch 28\n9:00 – 12:30 – Fun Swim in Hanover\n\n\n\n\n\n2:00 – 4:00 – Beaded Coasters Craft\n\n\n\n\n\n\n\n\n\n\nApril 4\n10:00 – 11:30 – Robotics at the Port Elgin Library\n\n\n\n\n\n12:00 – 4:00 – Grey & Bruce Advocates Meeting in Owen Sound\n\n\n\n\n\n12:30 – 4:00 – LEGO with the Link in Owen Sound\n\n\n\n\nApril 11\n10:00 – 12:00 – Easter Baking Treat\n\n\n\n\nApril 11\n12:00 – 4:00 – Grey & Bruce Advocates Meeting in Owen Sound\n\n\n\n\n\n4:30pm – Dinner and a Movie (Minecraft) in Owen Sound\nTime is approximate and will be shared closer to event\n\n\n\n\nApril 25\n11:00 – 3:00 – Festive Easter Luncheon at the Link in Owen Sound\, followed by Comic/Manga Book Club at the Link\n\n\n\n\nMay 2\n9:00 – 12:30 – Fun Swim in Hanover\n\n\n\n\n\n12:00 – 4:00 – Grey & Bruce Advocates Meeting in Owen Sound\n\n\n\n\nMay 9\n9:00 – 4:00 – A Day at the Link in Owen Sound\nAM – Make & Race Your Own Boat; PM – FishingLunch Out at Sabitris or Indian Desire – BYO$\n\n\n\n\n\n4:30 – 10:30 – Dinner Out &Tragically Hip Tribute at the Roxy\n\n\n\n\nMay 16\n10:00 – 1:00 Self Care Day – Manicures and Lunch with Friends (Chinese)\n\n\n\n\n\n1:00 – 4:00 – Afternoon at MacGregor Park\n\n\n\n\nMay 23\n10:00 – 12:00 – Victorian Tea\n\n\n\n\n\n1:00 – 4:00 – Laser Tag\n\n\n\n\nMay 30\n9:00 – 12:00 – Hiking at Inglis Falls\n\n\n\n\n\n1:00 – 3:00 – DIY Crystal Suncatchers\n\n\n\n\n\n4:30pm – Dinner and a Movie (Lilo & Stitch) in Owen Sound\nTime is approximate and will be shared closer to event
URL:https://communitylivingowensound.com/event/fun-fridays-pe/2025-05-16/
CATEGORIES:Community Participation
ATTACH;FMTTYPE=image/jpeg:https://communitylivingowensound.com/wp-content/uploads/2025/03/fun-friday.jpg
END:VEVENT
BEGIN:VEVENT
DTSTART;TZID=America/Toronto:20250520T093000
DTEND;TZID=America/Toronto:20250520T123000
DTSTAMP:20260420T234802
CREATED:20250318T172432Z
LAST-MODIFIED:20250318T172433Z
UID:10002068-1747733400-1747744200@communitylivingowensound.com
SUMMARY:Music & Drumming (PE)
DESCRIPTION:AM – Music & Drumming – Week 1: We will join our friends in Wiarton for a fun drumming program. Week 2: We will go to Community Living Walkerton for a morning of live music\, with new performers each time.
URL:https://communitylivingowensound.com/event/music-drumming-pe-2/2025-05-20/
CATEGORIES:Community Participation
ATTACH;FMTTYPE=image/jpeg:https://communitylivingowensound.com/wp-content/uploads/2025/03/music-and-drumming.jpg
END:VEVENT
BEGIN:VEVENT
DTSTART;TZID=America/Toronto:20250520T130000
DTEND;TZID=America/Toronto:20250520T160000
DTSTAMP:20260420T234802
CREATED:20250318T172601Z
LAST-MODIFIED:20250318T172601Z
UID:10002081-1747746000-1747756800@communitylivingowensound.com
SUMMARY:Spring Hikes (PE)
DESCRIPTION:PM – Spring Hiking – We are going to explore trails in Bruce and Grey Counties\, looking for signs of Spring.  On the lookout for animal tracks\, birds\, and trees in blossom with our friends from Owen Sound.
URL:https://communitylivingowensound.com/event/spring-hikes-pe/2025-05-20/
CATEGORIES:Community Participation
ATTACH;FMTTYPE=image/jpeg:https://communitylivingowensound.com/wp-content/uploads/2025/03/spring-hike.jpg
END:VEVENT
BEGIN:VEVENT
DTSTART;TZID=America/Toronto:20250520T140000
DTEND;TZID=America/Toronto:20250520T160000
DTSTAMP:20260420T234802
CREATED:20250318T172329Z
LAST-MODIFIED:20250318T172329Z
UID:10002056-1747749600-1747756800@communitylivingowensound.com
SUMMARY:Craft Circle (PE)
DESCRIPTION:PM – Craft Circle: Bring your own craft (diamond dot\, rug hooking\, knitting\, etc) and enjoy crafting with friends.
URL:https://communitylivingowensound.com/event/craft-circle-pe/2025-05-20/
CATEGORIES:Community Participation
ATTACH;FMTTYPE=image/jpeg:https://communitylivingowensound.com/wp-content/uploads/2024/10/crafts.jpg
END:VEVENT
BEGIN:VEVENT
DTSTART;TZID=America/Toronto:20250521T100000
DTEND;TZID=America/Toronto:20250521T120000
DTSTAMP:20260420T234802
CREATED:20250318T172752Z
LAST-MODIFIED:20250318T172752Z
UID:10002094-1747821600-1747828800@communitylivingowensound.com
SUMMARY:Brunch and Beats (PE)
DESCRIPTION:AM – Brunch & Beats: Each morning we will be exploring new recipes to create a delicious brunch to enjoy at The Link by the Shore\, while we enjoy wonderful music!
URL:https://communitylivingowensound.com/event/brunch-and-beats-pe/2025-05-21/
CATEGORIES:Community Participation
ATTACH;FMTTYPE=image/jpeg:https://communitylivingowensound.com/wp-content/uploads/2024/10/brunch.jpg
END:VEVENT
END:VCALENDAR