BEGIN:VCALENDAR
VERSION:2.0
PRODID:-//Community Living Owen Sound and District - ECPv6.15.18//NONSGML v1.0//EN
CALSCALE:GREGORIAN
METHOD:PUBLISH
X-ORIGINAL-URL:https://communitylivingowensound.com
X-WR-CALDESC:Events for Community Living Owen Sound and District
REFRESH-INTERVAL;VALUE=DURATION:PT1H
X-Robots-Tag:noindex
X-PUBLISHED-TTL:PT1H
BEGIN:VTIMEZONE
TZID:America/Toronto
BEGIN:DAYLIGHT
TZOFFSETFROM:-0500
TZOFFSETTO:-0400
TZNAME:EDT
DTSTART:20230312T070000
END:DAYLIGHT
BEGIN:STANDARD
TZOFFSETFROM:-0400
TZOFFSETTO:-0500
TZNAME:EST
DTSTART:20231105T060000
END:STANDARD
BEGIN:DAYLIGHT
TZOFFSETFROM:-0500
TZOFFSETTO:-0400
TZNAME:EDT
DTSTART:20240310T070000
END:DAYLIGHT
BEGIN:STANDARD
TZOFFSETFROM:-0400
TZOFFSETTO:-0500
TZNAME:EST
DTSTART:20241103T060000
END:STANDARD
BEGIN:DAYLIGHT
TZOFFSETFROM:-0500
TZOFFSETTO:-0400
TZNAME:EDT
DTSTART:20250309T070000
END:DAYLIGHT
BEGIN:STANDARD
TZOFFSETFROM:-0400
TZOFFSETTO:-0500
TZNAME:EST
DTSTART:20251102T060000
END:STANDARD
END:VTIMEZONE
BEGIN:VEVENT
DTSTART;TZID=America/Toronto:20240916T090000
DTEND;TZID=America/Toronto:20240916T110000
DTSTAMP:20260419T214047
CREATED:20240808T151526Z
LAST-MODIFIED:20240808T151526Z
UID:10000419-1726477200-1726484400@communitylivingowensound.com
SUMMARY:Cooking Class: Healthy Breakfast - Port Elgin
DESCRIPTION:Monday September 16 2024\nCooking Class- PE OFFICE\, PORT ELGIN- $30 per person  \nLearn how to make a healthy breakfast dish.\n9am – 11am\nTo RSVP\, contact your passport team member
URL:https://communitylivingowensound.com/event/cooking-class-healthy-breakfast-port-elgin/
CATEGORIES:Passport
ATTACH;FMTTYPE=image/jpeg:https://communitylivingowensound.com/wp-content/uploads/2024/08/breakfast-dish.jpg
END:VEVENT
BEGIN:VEVENT
DTSTART;TZID=America/Toronto:20240916T130000
DTEND;TZID=America/Toronto:20240916T150000
DTSTAMP:20260419T214047
CREATED:20240808T151125Z
LAST-MODIFIED:20240808T151140Z
UID:10000417-1726491600-1726498800@communitylivingowensound.com
SUMMARY:Baking Class: Apple Fritter Casserole - Port Elgin
DESCRIPTION:Monday\, September 16th\, 2024\nBaking Class- Apple Fritter Breakfast Casserole- PE OFFICE\, PORT ELGIN- $35 per person  \nAll the yummy taste of an apple fritter\, but in a easy to make breakfast casserole!  Please bring your own container.\n1pm – 3pm\nTo RSVP\, contact your Passport Team member
URL:https://communitylivingowensound.com/event/baking-class-apple-fritter-casserole-port-elgin/
CATEGORIES:Passport
ATTACH;FMTTYPE=image/jpeg:https://communitylivingowensound.com/wp-content/uploads/2024/08/apple-fritter-casserole.jpg
END:VEVENT
END:VCALENDAR